BEGIN:VCALENDAR
VERSION:2.0
PRODID:-//Uptown Westerville Inc - ECPv6.15.20//NONSGML v1.0//EN
CALSCALE:GREGORIAN
METHOD:PUBLISH
X-ORIGINAL-URL:https://uptownwestervilleinc.com
X-WR-CALDESC:Events for Uptown Westerville Inc
REFRESH-INTERVAL;VALUE=DURATION:PT1H
X-Robots-Tag:noindex
X-PUBLISHED-TTL:PT1H
BEGIN:VTIMEZONE
TZID:America/New_York
BEGIN:DAYLIGHT
TZOFFSETFROM:-0500
TZOFFSETTO:-0400
TZNAME:EDT
DTSTART:20240310T070000
END:DAYLIGHT
BEGIN:STANDARD
TZOFFSETFROM:-0400
TZOFFSETTO:-0500
TZNAME:EST
DTSTART:20241103T060000
END:STANDARD
BEGIN:DAYLIGHT
TZOFFSETFROM:-0500
TZOFFSETTO:-0400
TZNAME:EDT
DTSTART:20250309T070000
END:DAYLIGHT
BEGIN:STANDARD
TZOFFSETFROM:-0400
TZOFFSETTO:-0500
TZNAME:EST
DTSTART:20251102T060000
END:STANDARD
BEGIN:DAYLIGHT
TZOFFSETFROM:-0500
TZOFFSETTO:-0400
TZNAME:EDT
DTSTART:20260308T070000
END:DAYLIGHT
BEGIN:STANDARD
TZOFFSETFROM:-0400
TZOFFSETTO:-0500
TZNAME:EST
DTSTART:20261101T060000
END:STANDARD
END:VTIMEZONE
BEGIN:VEVENT
DTSTART;TZID=America/New_York:20250612T180000
DTEND;TZID=America/New_York:20250612T193000
DTSTAMP:20260419T190656
CREATED:20250603T124816Z
LAST-MODIFIED:20250603T124827Z
UID:990001617-1749751200-1749756600@uptownwestervilleinc.com
SUMMARY:Good Vibes Book Club June 12
DESCRIPTION:Book Club: 6-7:30 p.m.\nSpring is here … let’s read a good book! This month we will be reading Everyone in My Family has Killed Someone” by Benjamin Stevenson. \nCome ready to chat\, have fun and drink some wine. No need to register\, just read the book and show up.
URL:https://uptownwestervilleinc.com/event/good-vibes-book-club-june-12/
LOCATION:Good Vibes Winery\, 2 S State St\, Westerville\, OH\, 43081
CATEGORIES:State Street News
ATTACH;FMTTYPE=image/webp:https://uptownwestervilleinc.com/wp-content/uploads/2025/03/3-13-25-good-vibes-book-club.webp
ORGANIZER;CN="Good Vibes Winery":MAILTO:info@goodvibeswinery.com
GEO:40.1258532;-82.931318
X-APPLE-STRUCTURED-LOCATION;VALUE=URI;X-ADDRESS=Good Vibes Winery 2 S State St Westerville OH 43081;X-APPLE-RADIUS=500;X-TITLE=2 S State St:geo:-82.931318,40.1258532
END:VEVENT
BEGIN:VEVENT
DTSTART;TZID=America/New_York:20250613T190000
DTEND;TZID=America/New_York:20250613T210000
DTSTAMP:20260419T190656
CREATED:20250603T125643Z
LAST-MODIFIED:20250603T125650Z
UID:990001618-1749841200-1749848400@uptownwestervilleinc.com
SUMMARY:Live music at Good Vibes Winery June 13
DESCRIPTION:Friday live music: 7-9 p.m.\nJune 13: J & J Recall \nCome enjoy Live Music from J & J Recall at Good Vibes May 2! \nA local duo from right here in Westerville\, Ohio\, J & J play the Beatles\, Fleetwood Mac\, Van Morrison and more. It will be a great time. You don’t want to miss it!
URL:https://uptownwestervilleinc.com/event/live-music-at-good-vibes-winery-june-13/
LOCATION:Good Vibes Winery\, 2 S State St\, Westerville\, OH\, 43081
CATEGORIES:Live Music,State Street News
ATTACH;FMTTYPE=image/webp:https://uptownwestervilleinc.com/wp-content/uploads/2025/01/2-8-25-J-and-J-Recall.webp
ORGANIZER;CN="Good Vibes Winery":MAILTO:info@goodvibeswinery.com
GEO:40.1258532;-82.931318
X-APPLE-STRUCTURED-LOCATION;VALUE=URI;X-ADDRESS=Good Vibes Winery 2 S State St Westerville OH 43081;X-APPLE-RADIUS=500;X-TITLE=2 S State St:geo:-82.931318,40.1258532
END:VEVENT
END:VCALENDAR