BEGIN:VCALENDAR
VERSION:2.0
PRODID:-//Uptown Westerville Inc - ECPv6.15.20//NONSGML v1.0//EN
CALSCALE:GREGORIAN
METHOD:PUBLISH
X-ORIGINAL-URL:https://uptownwestervilleinc.com
X-WR-CALDESC:Events for Uptown Westerville Inc
REFRESH-INTERVAL;VALUE=DURATION:PT1H
X-Robots-Tag:noindex
X-PUBLISHED-TTL:PT1H
BEGIN:VTIMEZONE
TZID:America/New_York
BEGIN:DAYLIGHT
TZOFFSETFROM:-0500
TZOFFSETTO:-0400
TZNAME:EDT
DTSTART:20240310T070000
END:DAYLIGHT
BEGIN:STANDARD
TZOFFSETFROM:-0400
TZOFFSETTO:-0500
TZNAME:EST
DTSTART:20241103T060000
END:STANDARD
BEGIN:DAYLIGHT
TZOFFSETFROM:-0500
TZOFFSETTO:-0400
TZNAME:EDT
DTSTART:20250309T070000
END:DAYLIGHT
BEGIN:STANDARD
TZOFFSETFROM:-0400
TZOFFSETTO:-0500
TZNAME:EST
DTSTART:20251102T060000
END:STANDARD
BEGIN:DAYLIGHT
TZOFFSETFROM:-0500
TZOFFSETTO:-0400
TZNAME:EDT
DTSTART:20260308T070000
END:DAYLIGHT
BEGIN:STANDARD
TZOFFSETFROM:-0400
TZOFFSETTO:-0500
TZNAME:EST
DTSTART:20261101T060000
END:STANDARD
END:VTIMEZONE
BEGIN:VEVENT
DTSTART;TZID=America/New_York:20250628T090000
DTEND;TZID=America/New_York:20250628T120000
DTSTAMP:20260420T113935
CREATED:20250529T145122Z
LAST-MODIFIED:20250529T145156Z
UID:990001593-1751101200-1751112000@uptownwestervilleinc.com
SUMMARY:Oasis Church Teach Me To Fish Hooks With Heroes at Hoff Woods
DESCRIPTION:Join us for a FREE day of fun and community as we cast lines alongside Westerville’s Heroes – our special guests from Police\, Fire & EMT.\n\nEverything is FREE\nFishing (FISHING POLE PROVIDED FOR ALL KIDS ages 4 & up) Tackle\, Giveaways\nSnow Cones\, Popcorn\, Games. \nYou don’t want to miss this perfect start to a Summer Saturday. \nSEE YOU THERE! 
URL:https://uptownwestervilleinc.com/event/oasis-church-teach-me-to-fish-hooks-with-heroes-at-hoff-woods/
LOCATION:Hoff Woods Park\, 556 McCorkle Blvd.\, Westerville\, 43082
CATEGORIES:In the area
ATTACH;FMTTYPE=image/webp:https://uptownwestervilleinc.com/wp-content/uploads/2025/05/6-28-25-fishing.webp
ORGANIZER;CN="Oasis City Church":MAILTO:info@oasiscitychurch.com
GEO:40.1388288;-82.918335
X-APPLE-STRUCTURED-LOCATION;VALUE=URI;X-ADDRESS=Hoff Woods Park 556 McCorkle Blvd. Westerville 43082;X-APPLE-RADIUS=500;X-TITLE=556 McCorkle Blvd.:geo:-82.918335,40.1388288
END:VEVENT
END:VCALENDAR