BEGIN:VCALENDAR
VERSION:2.0
PRODID:-//Uptown Westerville Inc - ECPv6.15.20//NONSGML v1.0//EN
CALSCALE:GREGORIAN
METHOD:PUBLISH
X-WR-CALNAME:Uptown Westerville Inc
X-ORIGINAL-URL:https://uptownwestervilleinc.com
X-WR-CALDESC:Events for Uptown Westerville Inc
REFRESH-INTERVAL;VALUE=DURATION:PT1H
X-Robots-Tag:noindex
X-PUBLISHED-TTL:PT1H
BEGIN:VTIMEZONE
TZID:America/New_York
BEGIN:DAYLIGHT
TZOFFSETFROM:-0500
TZOFFSETTO:-0400
TZNAME:EDT
DTSTART:20240310T070000
END:DAYLIGHT
BEGIN:STANDARD
TZOFFSETFROM:-0400
TZOFFSETTO:-0500
TZNAME:EST
DTSTART:20241103T060000
END:STANDARD
BEGIN:DAYLIGHT
TZOFFSETFROM:-0500
TZOFFSETTO:-0400
TZNAME:EDT
DTSTART:20250309T070000
END:DAYLIGHT
BEGIN:STANDARD
TZOFFSETFROM:-0400
TZOFFSETTO:-0500
TZNAME:EST
DTSTART:20251102T060000
END:STANDARD
BEGIN:DAYLIGHT
TZOFFSETFROM:-0500
TZOFFSETTO:-0400
TZNAME:EDT
DTSTART:20260308T070000
END:DAYLIGHT
BEGIN:STANDARD
TZOFFSETFROM:-0400
TZOFFSETTO:-0500
TZNAME:EST
DTSTART:20261101T060000
END:STANDARD
END:VTIMEZONE
BEGIN:VEVENT
DTSTART;TZID=America/New_York:20250927T180000
DTEND;TZID=America/New_York:20250927T193000
DTSTAMP:20260421T164838
CREATED:20250911T181643Z
LAST-MODIFIED:20250911T181643Z
UID:990001970-1758996000-1759001400@uptownwestervilleinc.com
SUMMARY:Blooms & Brews Workshop
DESCRIPTION:Step into the magic of fall with our very first Blooms & Brews Workshop\, hosted in collaboration with Blue Turtle Tea & Spice. Think crisp autumn air\, the glow of golden light\, the aroma of warm spices\, and a pumpkin overflowing with fresh farm blooms you designed yourself. \nThis isn’t just a workshop — it’s a cozy autumn escape. Together\, we’ll mix the art of floral arranging with the comfort of sipping seasonal teas\, creating a night full of laughter\, creativity\, and memory-making. \n🌻 What you’ll experience: \n\nHand-select your pumpkin and fill it with farm-fresh fall flowers from our curated Bouquet Bar.\nDiscover the art of arranging with step-by-step guidance (no experience needed!).\nSip\, sample\, and savor seasonal teas and spices that warm the soul.\nIndulge in sweet fall-inspired treats (with a little “boo-worthy” fun).\nSlow down\, connect\, and create in a welcoming\, twinkle-lit autumn setting.\n\nTickets: $75/person \n💐What’s Included: \n✨ A fresh pumpkin and Bouquet Bar full of Windy Heights fall blooms\n✨ Tea & spice tasting with seasonal blends from Blue Turtle Tea & Spice\n✨ Boo-worthy sweet treats to celebrate the season\n✨ All tools and supplies for your bouquet\n✨ Step-by-step guidance for both your flower design & tea pairings\n✨ A memorable evening of fall charm with friends & community
URL:https://uptownwestervilleinc.com/event/blooms-brews-workshop/
LOCATION:Blue Turtle Tea & Spice\, 13 E. College Ave.\, Westerville\, 43081\, United States
CATEGORIES:arts workshop
ATTACH;FMTTYPE=image/webp:https://uptownwestervilleinc.com/wp-content/uploads/2025/09/9-27-25-BT-Blooms-and-Brews-workshop.webp
ORGANIZER;CN="Blue Turtle Tea & Spice":MAILTO:BlueTurtle@BlueTurtleTeaAndSpice.com
GEO:40.1257881;-82.9310615
X-APPLE-STRUCTURED-LOCATION;VALUE=URI;X-ADDRESS=Blue Turtle Tea & Spice 13 E. College Ave. Westerville 43081 United States;X-APPLE-RADIUS=500;X-TITLE=13 E. College Ave.:geo:-82.9310615,40.1257881
END:VEVENT
END:VCALENDAR