BEGIN:VCALENDAR
VERSION:2.0
PRODID:-//Uptown Westerville Inc - ECPv6.15.20//NONSGML v1.0//EN
CALSCALE:GREGORIAN
METHOD:PUBLISH
X-ORIGINAL-URL:https://uptownwestervilleinc.com
X-WR-CALDESC:Events for Uptown Westerville Inc
REFRESH-INTERVAL;VALUE=DURATION:PT1H
X-Robots-Tag:noindex
X-PUBLISHED-TTL:PT1H
BEGIN:VTIMEZONE
TZID:America/New_York
BEGIN:DAYLIGHT
TZOFFSETFROM:-0500
TZOFFSETTO:-0400
TZNAME:EDT
DTSTART:20250309T070000
END:DAYLIGHT
BEGIN:STANDARD
TZOFFSETFROM:-0400
TZOFFSETTO:-0500
TZNAME:EST
DTSTART:20251102T060000
END:STANDARD
BEGIN:DAYLIGHT
TZOFFSETFROM:-0500
TZOFFSETTO:-0400
TZNAME:EDT
DTSTART:20260308T070000
END:DAYLIGHT
BEGIN:STANDARD
TZOFFSETFROM:-0400
TZOFFSETTO:-0500
TZNAME:EST
DTSTART:20261101T060000
END:STANDARD
BEGIN:DAYLIGHT
TZOFFSETFROM:-0500
TZOFFSETTO:-0400
TZNAME:EDT
DTSTART:20270314T070000
END:DAYLIGHT
BEGIN:STANDARD
TZOFFSETFROM:-0400
TZOFFSETTO:-0500
TZNAME:EST
DTSTART:20271107T060000
END:STANDARD
END:VTIMEZONE
BEGIN:VEVENT
DTSTART;TZID=America/New_York:20260502T100000
DTEND;TZID=America/New_York:20260502T113000
DTSTAMP:20260419T102557
CREATED:20260406T000717Z
LAST-MODIFIED:20260406T000717Z
UID:990002816-1777716000-1777721400@uptownwestervilleinc.com
SUMMARY:Mother's Day Tea
DESCRIPTION:Please join us for tea\, a light brunch\, and fellowship as we honor mothers who have lost a child at any age. As we walk this journey together\, we invite women who have experienced this unique loss to gather in community and connect with shared messages of hope amidst the pain of grief. \nThis year’s event will also feature a special stained glass memorial activity\, offering mothers the opportunity to create a meaningful keepsake in memory of their child to take home.
URL:https://uptownwestervilleinc.com/event/mothers-day-tea/
LOCATION:Cornerstone of Hope\, 253 N State Street\, Suite 200\, Westerville\, Ohio\, 43081
ATTACH;FMTTYPE=image/jpeg:https://uptownwestervilleinc.com/wp-content/uploads/2026/03/Mothers-Day-Tea-scaled-1.jpg
ORGANIZER;CN="Cornerstone of Hope":MAILTO:jcudlin@cornerstoneofhope.org
GEO:40.1327065;-82.9337971
X-APPLE-STRUCTURED-LOCATION;VALUE=URI;X-ADDRESS=Cornerstone of Hope 253 N State Street Suite 200 Westerville Ohio 43081;X-APPLE-RADIUS=500;X-TITLE=253 N State Street\, Suite 200:geo:-82.9337971,40.1327065
END:VEVENT
BEGIN:VEVENT
DTSTART;TZID=America/New_York:20260718T100000
DTEND;TZID=America/New_York:20260718T113000
DTSTAMP:20260419T102557
CREATED:20260406T000744Z
LAST-MODIFIED:20260406T000744Z
UID:990002815-1784368800-1784374200@uptownwestervilleinc.com
SUMMARY:Annual Memorial Butterfly Release
DESCRIPTION:Please join us to remember your loved ones and to release a butterfly in their honor. All are welcome. \nBEAUTIFUL MEMORIAL\nButterflies are nature’s ultimate symbol of change\, transformation and beauty. Releasing live butterflies for a loved one is a unique way to honor and remember them. \nRELEASING BUTTERFLIES\nThe butterflies will be released at the end of the ceremony. You and your guests may find a place on the grounds to release your butterfly together. \n  \nBUTTERFLY ORDERING\nThere is a $20 cost per butterfly. Butterfly orders are limited to six (6) total butterflies for up to three (3) loved ones. Purchases must be made no later than July 10\, 2026.
URL:https://uptownwestervilleinc.com/event/annual-memorial-butterfly-release/
LOCATION:Metzger Park Shelter\, 137 Granby Place\, Westerville\, 43081
ATTACH;FMTTYPE=image/jpeg:https://uptownwestervilleinc.com/wp-content/uploads/2026/03/Butterfly-Release-scaled-1.jpg
ORGANIZER;CN="Cornerstone of Hope":MAILTO:jcudlin@cornerstoneofhope.org
GEO:40.129039;-82.9606186
X-APPLE-STRUCTURED-LOCATION;VALUE=URI;X-ADDRESS=Metzger Park Shelter 137 Granby Place Westerville 43081;X-APPLE-RADIUS=500;X-TITLE=137 Granby Place:geo:-82.9606186,40.129039
END:VEVENT
END:VCALENDAR