BEGIN:VCALENDAR
VERSION:2.0
PRODID:-//Uptown Westerville Inc - ECPv6.15.20//NONSGML v1.0//EN
CALSCALE:GREGORIAN
METHOD:PUBLISH
X-ORIGINAL-URL:https://uptownwestervilleinc.com
X-WR-CALDESC:Events for Uptown Westerville Inc
REFRESH-INTERVAL;VALUE=DURATION:PT1H
X-Robots-Tag:noindex
X-PUBLISHED-TTL:PT1H
BEGIN:VTIMEZONE
TZID:America/New_York
BEGIN:DAYLIGHT
TZOFFSETFROM:-0500
TZOFFSETTO:-0400
TZNAME:EDT
DTSTART:20240310T070000
END:DAYLIGHT
BEGIN:STANDARD
TZOFFSETFROM:-0400
TZOFFSETTO:-0500
TZNAME:EST
DTSTART:20241103T060000
END:STANDARD
BEGIN:DAYLIGHT
TZOFFSETFROM:-0500
TZOFFSETTO:-0400
TZNAME:EDT
DTSTART:20250309T070000
END:DAYLIGHT
BEGIN:STANDARD
TZOFFSETFROM:-0400
TZOFFSETTO:-0500
TZNAME:EST
DTSTART:20251102T060000
END:STANDARD
BEGIN:DAYLIGHT
TZOFFSETFROM:-0500
TZOFFSETTO:-0400
TZNAME:EDT
DTSTART:20260308T070000
END:DAYLIGHT
BEGIN:STANDARD
TZOFFSETFROM:-0400
TZOFFSETTO:-0500
TZNAME:EST
DTSTART:20261101T060000
END:STANDARD
END:VTIMEZONE
BEGIN:VEVENT
DTSTART;TZID=America/New_York:20251213T130000
DTEND;TZID=America/New_York:20251213T150000
DTSTAMP:20260420T021745
CREATED:20251119T191122Z
LAST-MODIFIED:20251119T191122Z
UID:990002603-1765630800-1765638000@uptownwestervilleinc.com
SUMMARY:Merry & Bright Pop-Up Event at Meza Wine Shop
DESCRIPTION:Join us at Meza for a festive Saturday afternoon of shopping and sipping festive holiday DORA drinks! \nWe will have a variety of amazing local vendors on hand Dec. 13 for our Merry & Bright Pop-Up Event\, so you can knock out some of your holiday shopping! Your confirmation of purchase will be your ticket to the event! \nYour ticket gets you entrance to the pop-up event\, (1) discounted DORA drink of either warm mulled wine or sparkling wine\, and a small charcuterie box to take home! \nSpace will be limited! \nVendors: \n\nPour a holiday candle with Forgotten & Found\nShop festive holiday looks with Hazelrose Boutique\nShop upcycled and hand embroidered items with Loulou Mcgee
URL:https://uptownwestervilleinc.com/event/merry-bright-pop-up-event-at-meza-wine-shop/
LOCATION:Meza Wine Shop\, 48 N. State St.\, Westerville\, 43081\, United States
CATEGORIES:Holiday events
ATTACH;FMTTYPE=image/webp:https://uptownwestervilleinc.com/wp-content/uploads/2025/11/12-13-25-merry-and-bright.webp
ORGANIZER;CN="meza wine shop":MAILTO:vinomeza@gmail.com
GEO:40.127185;-82.9317428
X-APPLE-STRUCTURED-LOCATION;VALUE=URI;X-ADDRESS=Meza Wine Shop 48 N. State St. Westerville 43081 United States;X-APPLE-RADIUS=500;X-TITLE=48 N. State St.:geo:-82.9317428,40.127185
END:VEVENT
END:VCALENDAR