BEGIN:VCALENDAR
VERSION:2.0
PRODID:-//Uptown Westerville Inc - ECPv6.15.20//NONSGML v1.0//EN
CALSCALE:GREGORIAN
METHOD:PUBLISH
X-ORIGINAL-URL:https://uptownwestervilleinc.com
X-WR-CALDESC:Events for Uptown Westerville Inc
REFRESH-INTERVAL;VALUE=DURATION:PT1H
X-Robots-Tag:noindex
X-PUBLISHED-TTL:PT1H
BEGIN:VTIMEZONE
TZID:America/New_York
BEGIN:DAYLIGHT
TZOFFSETFROM:-0500
TZOFFSETTO:-0400
TZNAME:EDT
DTSTART:20240310T070000
END:DAYLIGHT
BEGIN:STANDARD
TZOFFSETFROM:-0400
TZOFFSETTO:-0500
TZNAME:EST
DTSTART:20241103T060000
END:STANDARD
BEGIN:DAYLIGHT
TZOFFSETFROM:-0500
TZOFFSETTO:-0400
TZNAME:EDT
DTSTART:20250309T070000
END:DAYLIGHT
BEGIN:STANDARD
TZOFFSETFROM:-0400
TZOFFSETTO:-0500
TZNAME:EST
DTSTART:20251102T060000
END:STANDARD
BEGIN:DAYLIGHT
TZOFFSETFROM:-0500
TZOFFSETTO:-0400
TZNAME:EDT
DTSTART:20260308T070000
END:DAYLIGHT
BEGIN:STANDARD
TZOFFSETFROM:-0400
TZOFFSETTO:-0500
TZNAME:EST
DTSTART:20261101T060000
END:STANDARD
END:VTIMEZONE
BEGIN:VEVENT
DTSTART;TZID=America/New_York:20250413T140000
DTEND;TZID=America/New_York:20250413T160000
DTSTAMP:20260419T122330
CREATED:20250409T010603Z
LAST-MODIFIED:20250409T010608Z
UID:990001222-1744552800-1744560000@uptownwestervilleinc.com
SUMMARY:Westerville Central presents 'Legally Blonde: The Musical'
DESCRIPTION:Westerville Central presents ‘Legally Blonde: The Musical’\n\nWesterville Central High School theater students will present Legally Blonde: The Musical Friday through Sunday\, April 11-13\, in the auditorium at Central\, 7118 Mount Royal Ave. \nBased on the beloved film and novel of the same name\, Legally Blonde: The Musical follows UCLA sorority president\, Elle Woods\, as she uproots her entire life to follow her love\, Warner\, to Harvard Law School. Once she arrives\, Elle realizes that studying law can be used to give back to others. \nWith the help of new friends\, Paulette\, Emmett\, and a Greek chorus that lives inside her head\, Elle seizes an opportunity to stand on her own and prove that staying true to yourself never goes out of style! With a huge cast of zany characters\, poignant moments\, and unforgettable music\, Legally Blonde will provide audiences with an experience so enjoyable\, they’ll be shouting “OMIGOD” by the end! \nStudents in Central’s Thespian Troupe 6750 will present the play at 7 p.m. Friday\, April 11; 2 and 7 p.m. Saturday\, April 12; and 2 p.m. Sunday\, April 13. Tickets are $12 or $15 and can be purchased ed online at wchstheatre.net/ticketing.
URL:https://uptownwestervilleinc.com/event/westerville-central-presents-legally-blonde-the-musical/2025-04-13/
LOCATION:Westerville Central High School\, 7118 Mt Royal Ave\, Westerville\, Ohio\, 43082
CATEGORIES:Art event,In the area,School Events
ATTACH;FMTTYPE=image/webp:https://uptownwestervilleinc.com/wp-content/uploads/2025/04/4-11_13-25-WSHS-legally-blonde.webp
ORGANIZER;CN="Warhawk Theatre %E2%80%93 Thespian Troupe 6750":MAILTO:wchstheatreboosters@gmail.com
GEO:40.1544356;-82.9040906
X-APPLE-STRUCTURED-LOCATION;VALUE=URI;X-ADDRESS=Westerville Central High School 7118 Mt Royal Ave Westerville Ohio 43082;X-APPLE-RADIUS=500;X-TITLE=7118 Mt Royal Ave:geo:-82.9040906,40.1544356
END:VEVENT
BEGIN:VEVENT
DTSTART;TZID=America/New_York:20250412T190000
DTEND;TZID=America/New_York:20250412T210000
DTSTAMP:20260419T122330
CREATED:20250409T010603Z
LAST-MODIFIED:20250409T010608Z
UID:990001221-1744484400-1744491600@uptownwestervilleinc.com
SUMMARY:Westerville Central presents 'Legally Blonde: The Musical'
DESCRIPTION:Westerville Central presents ‘Legally Blonde: The Musical’\n\nWesterville Central High School theater students will present Legally Blonde: The Musical Friday through Sunday\, April 11-13\, in the auditorium at Central\, 7118 Mount Royal Ave. \nBased on the beloved film and novel of the same name\, Legally Blonde: The Musical follows UCLA sorority president\, Elle Woods\, as she uproots her entire life to follow her love\, Warner\, to Harvard Law School. Once she arrives\, Elle realizes that studying law can be used to give back to others. \nWith the help of new friends\, Paulette\, Emmett\, and a Greek chorus that lives inside her head\, Elle seizes an opportunity to stand on her own and prove that staying true to yourself never goes out of style! With a huge cast of zany characters\, poignant moments\, and unforgettable music\, Legally Blonde will provide audiences with an experience so enjoyable\, they’ll be shouting “OMIGOD” by the end! \nStudents in Central’s Thespian Troupe 6750 will present the play at 7 p.m. Friday\, April 11; 2 and 7 p.m. Saturday\, April 12; and 2 p.m. Sunday\, April 13. Tickets are $12 or $15 and can be purchased ed online at wchstheatre.net/ticketing.
URL:https://uptownwestervilleinc.com/event/westerville-central-presents-legally-blonde-the-musical/2025-04-12/2/
LOCATION:Westerville Central High School\, 7118 Mt Royal Ave\, Westerville\, Ohio\, 43082
CATEGORIES:Art event,In the area,School Events
ATTACH;FMTTYPE=image/webp:https://uptownwestervilleinc.com/wp-content/uploads/2025/04/4-11_13-25-WSHS-legally-blonde.webp
ORGANIZER;CN="Warhawk Theatre %E2%80%93 Thespian Troupe 6750":MAILTO:wchstheatreboosters@gmail.com
GEO:40.1544356;-82.9040906
X-APPLE-STRUCTURED-LOCATION;VALUE=URI;X-ADDRESS=Westerville Central High School 7118 Mt Royal Ave Westerville Ohio 43082;X-APPLE-RADIUS=500;X-TITLE=7118 Mt Royal Ave:geo:-82.9040906,40.1544356
END:VEVENT
BEGIN:VEVENT
DTSTART;TZID=America/New_York:20250412T140000
DTEND;TZID=America/New_York:20250412T160000
DTSTAMP:20260419T122330
CREATED:20250409T010603Z
LAST-MODIFIED:20250409T010608Z
UID:990001220-1744466400-1744473600@uptownwestervilleinc.com
SUMMARY:Westerville Central presents 'Legally Blonde: The Musical'
DESCRIPTION:Westerville Central presents ‘Legally Blonde: The Musical’\n\nWesterville Central High School theater students will present Legally Blonde: The Musical Friday through Sunday\, April 11-13\, in the auditorium at Central\, 7118 Mount Royal Ave. \nBased on the beloved film and novel of the same name\, Legally Blonde: The Musical follows UCLA sorority president\, Elle Woods\, as she uproots her entire life to follow her love\, Warner\, to Harvard Law School. Once she arrives\, Elle realizes that studying law can be used to give back to others. \nWith the help of new friends\, Paulette\, Emmett\, and a Greek chorus that lives inside her head\, Elle seizes an opportunity to stand on her own and prove that staying true to yourself never goes out of style! With a huge cast of zany characters\, poignant moments\, and unforgettable music\, Legally Blonde will provide audiences with an experience so enjoyable\, they’ll be shouting “OMIGOD” by the end! \nStudents in Central’s Thespian Troupe 6750 will present the play at 7 p.m. Friday\, April 11; 2 and 7 p.m. Saturday\, April 12; and 2 p.m. Sunday\, April 13. Tickets are $12 or $15 and can be purchased ed online at wchstheatre.net/ticketing.
URL:https://uptownwestervilleinc.com/event/westerville-central-presents-legally-blonde-the-musical/2025-04-12/1/
LOCATION:Westerville Central High School\, 7118 Mt Royal Ave\, Westerville\, Ohio\, 43082
CATEGORIES:Art event,In the area,School Events
ATTACH;FMTTYPE=image/webp:https://uptownwestervilleinc.com/wp-content/uploads/2025/04/4-11_13-25-WSHS-legally-blonde.webp
ORGANIZER;CN="Warhawk Theatre %E2%80%93 Thespian Troupe 6750":MAILTO:wchstheatreboosters@gmail.com
GEO:40.1544356;-82.9040906
X-APPLE-STRUCTURED-LOCATION;VALUE=URI;X-ADDRESS=Westerville Central High School 7118 Mt Royal Ave Westerville Ohio 43082;X-APPLE-RADIUS=500;X-TITLE=7118 Mt Royal Ave:geo:-82.9040906,40.1544356
END:VEVENT
BEGIN:VEVENT
DTSTART;TZID=America/New_York:20250411T190000
DTEND;TZID=America/New_York:20250411T210000
DTSTAMP:20260419T122330
CREATED:20250409T010603Z
LAST-MODIFIED:20250409T010608Z
UID:990001219-1744398000-1744405200@uptownwestervilleinc.com
SUMMARY:Westerville Central presents 'Legally Blonde: The Musical'
DESCRIPTION:Westerville Central presents ‘Legally Blonde: The Musical’\n\nWesterville Central High School theater students will present Legally Blonde: The Musical Friday through Sunday\, April 11-13\, in the auditorium at Central\, 7118 Mount Royal Ave. \nBased on the beloved film and novel of the same name\, Legally Blonde: The Musical follows UCLA sorority president\, Elle Woods\, as she uproots her entire life to follow her love\, Warner\, to Harvard Law School. Once she arrives\, Elle realizes that studying law can be used to give back to others. \nWith the help of new friends\, Paulette\, Emmett\, and a Greek chorus that lives inside her head\, Elle seizes an opportunity to stand on her own and prove that staying true to yourself never goes out of style! With a huge cast of zany characters\, poignant moments\, and unforgettable music\, Legally Blonde will provide audiences with an experience so enjoyable\, they’ll be shouting “OMIGOD” by the end! \nStudents in Central’s Thespian Troupe 6750 will present the play at 7 p.m. Friday\, April 11; 2 and 7 p.m. Saturday\, April 12; and 2 p.m. Sunday\, April 13. Tickets are $12 or $15 and can be purchased ed online at wchstheatre.net/ticketing.
URL:https://uptownwestervilleinc.com/event/westerville-central-presents-legally-blonde-the-musical/2025-04-11/
LOCATION:Westerville Central High School\, 7118 Mt Royal Ave\, Westerville\, Ohio\, 43082
CATEGORIES:Art event,In the area,School Events
ATTACH;FMTTYPE=image/webp:https://uptownwestervilleinc.com/wp-content/uploads/2025/04/4-11_13-25-WSHS-legally-blonde.webp
ORGANIZER;CN="Warhawk Theatre %E2%80%93 Thespian Troupe 6750":MAILTO:wchstheatreboosters@gmail.com
GEO:40.1544356;-82.9040906
X-APPLE-STRUCTURED-LOCATION;VALUE=URI;X-ADDRESS=Westerville Central High School 7118 Mt Royal Ave Westerville Ohio 43082;X-APPLE-RADIUS=500;X-TITLE=7118 Mt Royal Ave:geo:-82.9040906,40.1544356
END:VEVENT
END:VCALENDAR