BEGIN:VCALENDAR
VERSION:2.0
PRODID:-//Uptown Westerville Inc - ECPv6.15.20//NONSGML v1.0//EN
CALSCALE:GREGORIAN
METHOD:PUBLISH
X-ORIGINAL-URL:https://uptownwestervilleinc.com
X-WR-CALDESC:Events for Uptown Westerville Inc
REFRESH-INTERVAL;VALUE=DURATION:PT1H
X-Robots-Tag:noindex
X-PUBLISHED-TTL:PT1H
BEGIN:VTIMEZONE
TZID:America/New_York
BEGIN:DAYLIGHT
TZOFFSETFROM:-0500
TZOFFSETTO:-0400
TZNAME:EDT
DTSTART:20230312T070000
END:DAYLIGHT
BEGIN:STANDARD
TZOFFSETFROM:-0400
TZOFFSETTO:-0500
TZNAME:EST
DTSTART:20231105T060000
END:STANDARD
BEGIN:DAYLIGHT
TZOFFSETFROM:-0500
TZOFFSETTO:-0400
TZNAME:EDT
DTSTART:20240310T070000
END:DAYLIGHT
BEGIN:STANDARD
TZOFFSETFROM:-0400
TZOFFSETTO:-0500
TZNAME:EST
DTSTART:20241103T060000
END:STANDARD
BEGIN:DAYLIGHT
TZOFFSETFROM:-0500
TZOFFSETTO:-0400
TZNAME:EDT
DTSTART:20250309T070000
END:DAYLIGHT
BEGIN:STANDARD
TZOFFSETFROM:-0400
TZOFFSETTO:-0500
TZNAME:EST
DTSTART:20251102T060000
END:STANDARD
END:VTIMEZONE
BEGIN:VEVENT
DTSTART;TZID=America/New_York:20240721T120000
DTEND;TZID=America/New_York:20240721T180000
DTSTAMP:20260420T150102
CREATED:20240706T045611Z
LAST-MODIFIED:20240711T011448Z
UID:990000837-1721563200-1721584800@uptownwestervilleinc.com
SUMMARY:2024 WesterFlora Garden Tour
DESCRIPTION:The 33rd annual WesterFlora Garden Tour will take place from noon-6 p.m. Sunday\, July 21. \nThe 2024 WesterFlora tour will feature wonderful local landscape creations across the Westerville school district rea. \nMusicians and artists are stationed at each location\, as participating residents open their beautiful gardens for the free public tour. \nWesterFlora was launched in 1992\, as part of the AmeriFlora celebration in Columbus. Avid local gardeners have maintained and grown the event since. \nLongtime Spring Grove resident Ron Clowson was an original member of the WesterFlora Garden Tour Committee\, and known as “the father of WesterFlora.” He passed away in 2023\, and the 2024 WesterFlora show is dedicated in his honor. \nOpen a PDF of this year’s tour stops with map and description here. \nFind more details on this year’s tour at WesterFlora.net. \nPHOTO (below): Ron Clowson \n  \n 
URL:https://uptownwestervilleinc.com/event/2024-westerflora-garden-tour/
CATEGORIES:In the area
ATTACH;FMTTYPE=image/jpeg:https://uptownwestervilleinc.com/wp-content/uploads/2024/07/WesterFlora-16x9-1.jpg
END:VEVENT
END:VCALENDAR