BEGIN:VCALENDAR
VERSION:2.0
PRODID:-//Uptown Westerville Inc - ECPv6.15.20//NONSGML v1.0//EN
CALSCALE:GREGORIAN
METHOD:PUBLISH
X-WR-CALNAME:Uptown Westerville Inc
X-ORIGINAL-URL:https://uptownwestervilleinc.com
X-WR-CALDESC:Events for Uptown Westerville Inc
REFRESH-INTERVAL;VALUE=DURATION:PT1H
X-Robots-Tag:noindex
X-PUBLISHED-TTL:PT1H
BEGIN:VTIMEZONE
TZID:America/New_York
BEGIN:DAYLIGHT
TZOFFSETFROM:-0500
TZOFFSETTO:-0400
TZNAME:EDT
DTSTART:20240310T070000
END:DAYLIGHT
BEGIN:STANDARD
TZOFFSETFROM:-0400
TZOFFSETTO:-0500
TZNAME:EST
DTSTART:20241103T060000
END:STANDARD
BEGIN:DAYLIGHT
TZOFFSETFROM:-0500
TZOFFSETTO:-0400
TZNAME:EDT
DTSTART:20250309T070000
END:DAYLIGHT
BEGIN:STANDARD
TZOFFSETFROM:-0400
TZOFFSETTO:-0500
TZNAME:EST
DTSTART:20251102T060000
END:STANDARD
BEGIN:DAYLIGHT
TZOFFSETFROM:-0500
TZOFFSETTO:-0400
TZNAME:EDT
DTSTART:20260308T070000
END:DAYLIGHT
BEGIN:STANDARD
TZOFFSETFROM:-0400
TZOFFSETTO:-0500
TZNAME:EST
DTSTART:20261101T060000
END:STANDARD
END:VTIMEZONE
BEGIN:VEVENT
DTSTART;TZID=America/New_York:20251207T133000
DTEND;TZID=America/New_York:20251207T163000
DTSTAMP:20260419T121702
CREATED:20250925T121331Z
LAST-MODIFIED:20250925T121331Z
UID:990002066-1765114200-1765125000@uptownwestervilleinc.com
SUMMARY:The Westerville Lions Club Rudolph 5K Run/Walk and Winterfest
DESCRIPTION:The Westerville Lions Rudolph 5K Run/Walk and Winter Fest is a family-encouraged 5K event that will take place on Dec. 7\, 2025 at the Westerville Sports Complex (325 N Cleveland Ave\, Westerville\, OH 43082). We will have Santa\, food trucks\, and activities for families and spectators. \nThe Rudolph Run/Walk 5K will generate funds to benefit Westerville area organizations. \n5K registrants – Register prior to Nov. 1\, and save $5! On Nov. 1\, the price of the 5K will increase from $35 to $40. *Please note that this special early registration price for the 5K does not apply to the Elementary School Challenge\, which is already discounted at $30. Register here!
URL:https://uptownwestervilleinc.com/event/the-westerville-lions-club-rudolph-5k-run-walk-and-winterfest/
LOCATION:Westerville Sports Complex\, North Cleveland Avenue\, Westerville\, Ohio\, 43081\, United States
CATEGORIES:In the area
ATTACH;FMTTYPE=image/png:https://uptownwestervilleinc.com/wp-content/uploads/2025/09/12-7-25-thumbnail_Rudolph-Run-5k-logo.png
ORGANIZER;CN="westervile lions":MAILTO:mccu40@msn.com
GEO:40.133764;-82.9480896
X-APPLE-STRUCTURED-LOCATION;VALUE=URI;X-ADDRESS=Westerville Sports Complex North Cleveland Avenue Westerville Ohio 43081 United States;X-APPLE-RADIUS=500;X-TITLE=North Cleveland Avenue:geo:-82.9480896,40.133764
END:VEVENT
END:VCALENDAR