BEGIN:VCALENDAR
VERSION:2.0
PRODID:-//Uptown Westerville Inc - ECPv6.15.20//NONSGML v1.0//EN
CALSCALE:GREGORIAN
METHOD:PUBLISH
X-ORIGINAL-URL:https://uptownwestervilleinc.com
X-WR-CALDESC:Events for Uptown Westerville Inc
REFRESH-INTERVAL;VALUE=DURATION:PT1H
X-Robots-Tag:noindex
X-PUBLISHED-TTL:PT1H
BEGIN:VTIMEZONE
TZID:America/New_York
BEGIN:DAYLIGHT
TZOFFSETFROM:-0500
TZOFFSETTO:-0400
TZNAME:EDT
DTSTART:20240310T070000
END:DAYLIGHT
BEGIN:STANDARD
TZOFFSETFROM:-0400
TZOFFSETTO:-0500
TZNAME:EST
DTSTART:20241103T060000
END:STANDARD
BEGIN:DAYLIGHT
TZOFFSETFROM:-0500
TZOFFSETTO:-0400
TZNAME:EDT
DTSTART:20250309T070000
END:DAYLIGHT
BEGIN:STANDARD
TZOFFSETFROM:-0400
TZOFFSETTO:-0500
TZNAME:EST
DTSTART:20251102T060000
END:STANDARD
BEGIN:DAYLIGHT
TZOFFSETFROM:-0500
TZOFFSETTO:-0400
TZNAME:EDT
DTSTART:20260308T070000
END:DAYLIGHT
BEGIN:STANDARD
TZOFFSETFROM:-0400
TZOFFSETTO:-0500
TZNAME:EST
DTSTART:20261101T060000
END:STANDARD
END:VTIMEZONE
BEGIN:VEVENT
DTSTART;TZID=America/New_York:20250930T110000
DTEND;TZID=America/New_York:20250930T113000
DTSTAMP:20260420T223214
CREATED:20250924T173305Z
LAST-MODIFIED:20250924T173305Z
UID:990002064-1759230000-1759231800@uptownwestervilleinc.com
SUMMARY:Edward Jones Ribbon Cutting
DESCRIPTION:After 30+ years in Uptown Westerville\, the Edward Jones Investment Services office of Tim Bullock\, Certified Financial Planner\, have moved to a new location. \nThe address is 653 McCorkle Blvd Ste A\, Westerville\, Ohio 43082. We are located on the southeast corner of the Hoff Woods office complex. To the south is the post office and to the east is Cheryl’s Cookies. \nPlease join us and the Westerville Area Chamber of Commerce to celebrate the new office opening with a ribbon cutting at 11 a.m. Tuesday\, Sept. 30.
URL:https://uptownwestervilleinc.com/event/edward-jones-ribbon-cutting/
LOCATION:Edward Jones Investment Services\, 653 McCorkle Blvd Ste A\, Westerville\, 43082\, United States
ATTACH;FMTTYPE=image/jpeg:https://uptownwestervilleinc.com/wp-content/uploads/2025/09/9-26-25-Team-Bullock-ribbon-cutting.jpg
ORGANIZER;CN="Westerville Area Chamber of Commerce":MAILTO:info@westervillechamber.com
GEO:40.142424;-82.9207025
X-APPLE-STRUCTURED-LOCATION;VALUE=URI;X-ADDRESS=Edward Jones Investment Services 653 McCorkle Blvd Ste A Westerville 43082 United States;X-APPLE-RADIUS=500;X-TITLE=653 McCorkle Blvd Ste A:geo:-82.9207025,40.142424
END:VEVENT
BEGIN:VEVENT
DTSTART;TZID=America/New_York:20250501T180000
DTEND;TZID=America/New_York:20250501T210000
DTSTAMP:20260420T223214
CREATED:20250317T182136Z
LAST-MODIFIED:20250317T182352Z
UID:990001205-1746122400-1746133200@uptownwestervilleinc.com
SUMMARY:Taste of Westerville 2025
DESCRIPTION:Experience the most delicious culinary offerings from our Westerville Chamber Members at the Annual Taste of Westerville!  The event includes food sampling\, wine and beer tastings (no extra tickets … it’s 100% included in our admission!)\, and a raffle. \nLocal celebrity judges will be in attendance\, awarding restaurants for\nWesterville’s Tastiest\, Best Presentation\, and more.\nGuests will join in the fun by voting for their favorite restaurant to receive the\nPeople’s Choice Award! \nThis is our largest spring event in the community. You won’t want to miss it!  \n\n​Register Early – This event sells out! \nSponsored by: Breezeline\, Diamonds Direct\, Nationwide Children’s Hospital\,  The Middlefield Banking Co.\, Stolly Insurance Group\, Renewal by Anderson\, Balster Realty Group-KW Excel Realty\, Trailhead Financial Partners\, Cummins Facility Services\, and BMI Federal Credit Union.
URL:https://uptownwestervilleinc.com/event/taste-of-westerville-2025/
LOCATION:Renaissance Columbus Westerville Hotel & Conf Center\, 409 Altair Pkwy\, Westerville\, 43082\, United States
CATEGORIES:In the area,State Street News
ATTACH;FMTTYPE=image/webp:https://uptownwestervilleinc.com/wp-content/uploads/2025/03/5-1-25-2025TasteofWesterville.webp
ORGANIZER;CN="Westerville Area Chamber of Commerce":MAILTO:info@westervillechamber.com
GEO:40.1430544;-82.9430614
X-APPLE-STRUCTURED-LOCATION;VALUE=URI;X-ADDRESS=Renaissance Columbus Westerville Hotel & Conf Center 409 Altair Pkwy Westerville 43082 United States;X-APPLE-RADIUS=500;X-TITLE=409 Altair Pkwy:geo:-82.9430614,40.1430544
END:VEVENT
END:VCALENDAR