BEGIN:VCALENDAR
VERSION:2.0
PRODID:-//Uptown Westerville Inc - ECPv6.15.20//NONSGML v1.0//EN
CALSCALE:GREGORIAN
METHOD:PUBLISH
X-WR-CALNAME:Uptown Westerville Inc
X-ORIGINAL-URL:https://uptownwestervilleinc.com
X-WR-CALDESC:Events for Uptown Westerville Inc
REFRESH-INTERVAL;VALUE=DURATION:PT1H
X-Robots-Tag:noindex
X-PUBLISHED-TTL:PT1H
BEGIN:VTIMEZONE
TZID:America/New_York
BEGIN:DAYLIGHT
TZOFFSETFROM:-0500
TZOFFSETTO:-0400
TZNAME:EDT
DTSTART:20230312T070000
END:DAYLIGHT
BEGIN:STANDARD
TZOFFSETFROM:-0400
TZOFFSETTO:-0500
TZNAME:EST
DTSTART:20231105T060000
END:STANDARD
BEGIN:DAYLIGHT
TZOFFSETFROM:-0500
TZOFFSETTO:-0400
TZNAME:EDT
DTSTART:20240310T070000
END:DAYLIGHT
BEGIN:STANDARD
TZOFFSETFROM:-0400
TZOFFSETTO:-0500
TZNAME:EST
DTSTART:20241103T060000
END:STANDARD
BEGIN:DAYLIGHT
TZOFFSETFROM:-0500
TZOFFSETTO:-0400
TZNAME:EDT
DTSTART:20250309T070000
END:DAYLIGHT
BEGIN:STANDARD
TZOFFSETFROM:-0400
TZOFFSETTO:-0500
TZNAME:EST
DTSTART:20251102T060000
END:STANDARD
END:VTIMEZONE
BEGIN:VEVENT
DTSTART;TZID=America/New_York:20240810T180000
DTEND;TZID=America/New_York:20240810T220000
DTSTAMP:20260420T071849
CREATED:20240404T203708Z
LAST-MODIFIED:20240803T195619Z
UID:990000735-1723312800-1723327200@uptownwestervilleinc.com
SUMMARY:2024 Uptown Untapped
DESCRIPTION:Uptown Untapped Craft Beer Festival\n\n\nThe 2024 Uptown Untapped Craft Brew Festival is set for 6-10 p.m. Saturday\, Aug. 10. The craft brew festival in the heart of the former Dry Capital of World takes over the first block of East Main Street\, with live music\, entertainment and a dozen or more craft beer brewery vendors. \nNOTE: This event is held rain or shine and open to adults age 21 and over. Proof of ID required. No exceptions.
URL:https://uptownwestervilleinc.com/event/2024-uptown-untapped/
LOCATION:East Main Uptown\, East Main Street\, Westerville\, OH\, 43081\, United States
CATEGORIES:Uptown Untapped
ATTACH;FMTTYPE=image/webp:https://uptownwestervilleinc.com/wp-content/uploads/2023/06/Untapped-crowd-cropped-22.webp
ORGANIZER;CN="Uptown Westerville Inc - UWI":MAILTO:dir@uptownwestervilleinc.com
GEO:40.126762;-82.9306962
X-APPLE-STRUCTURED-LOCATION;VALUE=URI;X-ADDRESS=East Main Uptown East Main Street Westerville OH 43081 United States;X-APPLE-RADIUS=500;X-TITLE=East Main Street:geo:-82.9306962,40.126762
END:VEVENT
END:VCALENDAR