BEGIN:VCALENDAR
VERSION:2.0
PRODID:-//Uptown Westerville Inc - ECPv6.15.20//NONSGML v1.0//EN
CALSCALE:GREGORIAN
METHOD:PUBLISH
X-ORIGINAL-URL:https://uptownwestervilleinc.com
X-WR-CALDESC:Events for Uptown Westerville Inc
REFRESH-INTERVAL;VALUE=DURATION:PT1H
X-Robots-Tag:noindex
X-PUBLISHED-TTL:PT1H
BEGIN:VTIMEZONE
TZID:America/New_York
BEGIN:DAYLIGHT
TZOFFSETFROM:-0500
TZOFFSETTO:-0400
TZNAME:EDT
DTSTART:20230312T070000
END:DAYLIGHT
BEGIN:STANDARD
TZOFFSETFROM:-0400
TZOFFSETTO:-0500
TZNAME:EST
DTSTART:20231105T060000
END:STANDARD
BEGIN:DAYLIGHT
TZOFFSETFROM:-0500
TZOFFSETTO:-0400
TZNAME:EDT
DTSTART:20240310T070000
END:DAYLIGHT
BEGIN:STANDARD
TZOFFSETFROM:-0400
TZOFFSETTO:-0500
TZNAME:EST
DTSTART:20241103T060000
END:STANDARD
BEGIN:DAYLIGHT
TZOFFSETFROM:-0500
TZOFFSETTO:-0400
TZNAME:EDT
DTSTART:20250309T070000
END:DAYLIGHT
BEGIN:STANDARD
TZOFFSETFROM:-0400
TZOFFSETTO:-0500
TZNAME:EST
DTSTART:20251102T060000
END:STANDARD
END:VTIMEZONE
BEGIN:VEVENT
DTSTART;TZID=America/New_York:20240803T140000
DTEND;TZID=America/New_York:20240803T160000
DTSTAMP:20260419T210052
CREATED:20240530T200302Z
LAST-MODIFIED:20240530T202102Z
UID:990000695-1722693600-1722700800@uptownwestervilleinc.com
SUMMARY:Uptown Epic Beer Walk
DESCRIPTION:Uptown Epic Beer Walk\n2-4 p.m. Saturdays April 6-Oct. 26\n\n\nWhere History Meets Beer in Uptown Westerville Every Week. This two-hour walking tour will focus on historical information about Westerville’s Temperance past\, and teach participants about beer\, including samplings. \nUptown Westerville Inc.’s Epic Beer Walks will begin at North High Brewing Co.\, 250 S. State St.\, stop at various Prohibition-related sites in Uptown and also stop at Fattey Beer Co.\, 79 S. State St. \nThe tour guides will be two 1977 graduates of Westerville South High School: Kurt Sima\, owner of Eric Beer Trips (epicbeertirps.com) and Dr. Mark Grimsley\, a history professor at Ohio State University. The history lessons will be based on the Uptown Westerville Inc. book by Joe Meyer\, Westerville: The War Machine of Prohibition. Beer samples for this tour will be served at North High Brewing and Fattey Beer Company. \nParticipants should be able to walk approximately 2 miles for the tour. The Beer Walks will be held rain or shine. Tickets available HERE. \nVisit Westerville is the presenting sponsor for all UWI Walking Events in 2024. \n 
URL:https://uptownwestervilleinc.com/event/uptown-epic-beer-walk-4/2024-08-03/
LOCATION:Uptown Westerville District\, 21 S. State St.\, Westerville\, OH\, 43081\, United States
CATEGORIES:State Street News,Walking Tours
ATTACH;FMTTYPE=image/webp:https://uptownwestervilleinc.com/wp-content/uploads/2024/03/E-Beer-Walk_calendar-graphic-1.webp
ORGANIZER;CN="Uptown Westerville Inc - UWI":MAILTO:dir@uptownwestervilleinc.com
GEO:40.1252264;-82.9317573
X-APPLE-STRUCTURED-LOCATION;VALUE=URI;X-ADDRESS=Uptown Westerville District 21 S. State St. Westerville OH 43081 United States;X-APPLE-RADIUS=500;X-TITLE=21 S. State St.:geo:-82.9317573,40.1252264
END:VEVENT
BEGIN:VEVENT
DTSTART;TZID=America/New_York:20240727T140000
DTEND;TZID=America/New_York:20240727T160000
DTSTAMP:20260419T210052
CREATED:20240530T200302Z
LAST-MODIFIED:20240530T202102Z
UID:990000694-1722088800-1722096000@uptownwestervilleinc.com
SUMMARY:Uptown Epic Beer Walk
DESCRIPTION:Uptown Epic Beer Walk\n2-4 p.m. Saturdays April 6-Oct. 26\n\n\nWhere History Meets Beer in Uptown Westerville Every Week. This two-hour walking tour will focus on historical information about Westerville’s Temperance past\, and teach participants about beer\, including samplings. \nUptown Westerville Inc.’s Epic Beer Walks will begin at North High Brewing Co.\, 250 S. State St.\, stop at various Prohibition-related sites in Uptown and also stop at Fattey Beer Co.\, 79 S. State St. \nThe tour guides will be two 1977 graduates of Westerville South High School: Kurt Sima\, owner of Eric Beer Trips (epicbeertirps.com) and Dr. Mark Grimsley\, a history professor at Ohio State University. The history lessons will be based on the Uptown Westerville Inc. book by Joe Meyer\, Westerville: The War Machine of Prohibition. Beer samples for this tour will be served at North High Brewing and Fattey Beer Company. \nParticipants should be able to walk approximately 2 miles for the tour. The Beer Walks will be held rain or shine. Tickets available HERE. \nVisit Westerville is the presenting sponsor for all UWI Walking Events in 2024. \n 
URL:https://uptownwestervilleinc.com/event/uptown-epic-beer-walk-4/2024-07-27/
LOCATION:Uptown Westerville District\, 21 S. State St.\, Westerville\, OH\, 43081\, United States
CATEGORIES:State Street News,Walking Tours
ATTACH;FMTTYPE=image/webp:https://uptownwestervilleinc.com/wp-content/uploads/2024/03/E-Beer-Walk_calendar-graphic-1.webp
ORGANIZER;CN="Uptown Westerville Inc - UWI":MAILTO:dir@uptownwestervilleinc.com
GEO:40.1252264;-82.9317573
X-APPLE-STRUCTURED-LOCATION;VALUE=URI;X-ADDRESS=Uptown Westerville District 21 S. State St. Westerville OH 43081 United States;X-APPLE-RADIUS=500;X-TITLE=21 S. State St.:geo:-82.9317573,40.1252264
END:VEVENT
BEGIN:VEVENT
DTSTART;TZID=America/New_York:20240720T140000
DTEND;TZID=America/New_York:20240720T160000
DTSTAMP:20260419T210052
CREATED:20240530T200302Z
LAST-MODIFIED:20240530T202102Z
UID:990000693-1721484000-1721491200@uptownwestervilleinc.com
SUMMARY:Uptown Epic Beer Walk
DESCRIPTION:Uptown Epic Beer Walk\n2-4 p.m. Saturdays April 6-Oct. 26\n\n\nWhere History Meets Beer in Uptown Westerville Every Week. This two-hour walking tour will focus on historical information about Westerville’s Temperance past\, and teach participants about beer\, including samplings. \nUptown Westerville Inc.’s Epic Beer Walks will begin at North High Brewing Co.\, 250 S. State St.\, stop at various Prohibition-related sites in Uptown and also stop at Fattey Beer Co.\, 79 S. State St. \nThe tour guides will be two 1977 graduates of Westerville South High School: Kurt Sima\, owner of Eric Beer Trips (epicbeertirps.com) and Dr. Mark Grimsley\, a history professor at Ohio State University. The history lessons will be based on the Uptown Westerville Inc. book by Joe Meyer\, Westerville: The War Machine of Prohibition. Beer samples for this tour will be served at North High Brewing and Fattey Beer Company. \nParticipants should be able to walk approximately 2 miles for the tour. The Beer Walks will be held rain or shine. Tickets available HERE. \nVisit Westerville is the presenting sponsor for all UWI Walking Events in 2024. \n 
URL:https://uptownwestervilleinc.com/event/uptown-epic-beer-walk-4/2024-07-20/
LOCATION:Uptown Westerville District\, 21 S. State St.\, Westerville\, OH\, 43081\, United States
CATEGORIES:State Street News,Walking Tours
ATTACH;FMTTYPE=image/webp:https://uptownwestervilleinc.com/wp-content/uploads/2024/03/E-Beer-Walk_calendar-graphic-1.webp
ORGANIZER;CN="Uptown Westerville Inc - UWI":MAILTO:dir@uptownwestervilleinc.com
GEO:40.1252264;-82.9317573
X-APPLE-STRUCTURED-LOCATION;VALUE=URI;X-ADDRESS=Uptown Westerville District 21 S. State St. Westerville OH 43081 United States;X-APPLE-RADIUS=500;X-TITLE=21 S. State St.:geo:-82.9317573,40.1252264
END:VEVENT
BEGIN:VEVENT
DTSTART;TZID=America/New_York:20240629T140000
DTEND;TZID=America/New_York:20240629T160000
DTSTAMP:20260419T210052
CREATED:20240530T200302Z
LAST-MODIFIED:20240530T202102Z
UID:990000839-1719669600-1719676800@uptownwestervilleinc.com
SUMMARY:Uptown Epic Beer Walk
DESCRIPTION:Uptown Epic Beer Walk\n2-4 p.m. Saturdays April 6-Oct. 26\n\n\nWhere History Meets Beer in Uptown Westerville Every Week. This two-hour walking tour will focus on historical information about Westerville’s Temperance past\, and teach participants about beer\, including samplings. \nUptown Westerville Inc.’s Epic Beer Walks will begin at North High Brewing Co.\, 250 S. State St.\, stop at various Prohibition-related sites in Uptown and also stop at Fattey Beer Co.\, 79 S. State St. \nThe tour guides will be two 1977 graduates of Westerville South High School: Kurt Sima\, owner of Eric Beer Trips (epicbeertirps.com) and Dr. Mark Grimsley\, a history professor at Ohio State University. The history lessons will be based on the Uptown Westerville Inc. book by Joe Meyer\, Westerville: The War Machine of Prohibition. Beer samples for this tour will be served at North High Brewing and Fattey Beer Company. \nParticipants should be able to walk approximately 2 miles for the tour. The Beer Walks will be held rain or shine. Tickets available HERE. \nVisit Westerville is the presenting sponsor for all UWI Walking Events in 2024. \n 
URL:https://uptownwestervilleinc.com/event/uptown-epic-beer-walk-4/2024-06-29/
LOCATION:Uptown Westerville District\, 21 S. State St.\, Westerville\, OH\, 43081\, United States
CATEGORIES:State Street News,Walking Tours
ATTACH;FMTTYPE=image/webp:https://uptownwestervilleinc.com/wp-content/uploads/2024/03/E-Beer-Walk_calendar-graphic-1.webp
ORGANIZER;CN="Uptown Westerville Inc - UWI":MAILTO:dir@uptownwestervilleinc.com
GEO:40.1252264;-82.9317573
X-APPLE-STRUCTURED-LOCATION;VALUE=URI;X-ADDRESS=Uptown Westerville District 21 S. State St. Westerville OH 43081 United States;X-APPLE-RADIUS=500;X-TITLE=21 S. State St.:geo:-82.9317573,40.1252264
END:VEVENT
BEGIN:VEVENT
DTSTART;TZID=America/New_York:20240615T140000
DTEND;TZID=America/New_York:20240615T160000
DTSTAMP:20260419T210052
CREATED:20240530T200302Z
LAST-MODIFIED:20240530T202102Z
UID:990000833-1718460000-1718467200@uptownwestervilleinc.com
SUMMARY:Uptown Epic Beer Walk
DESCRIPTION:Uptown Epic Beer Walk\n2-4 p.m. Saturdays April 6-Oct. 26\n\n\nWhere History Meets Beer in Uptown Westerville Every Week. This two-hour walking tour will focus on historical information about Westerville’s Temperance past\, and teach participants about beer\, including samplings. \nUptown Westerville Inc.’s Epic Beer Walks will begin at North High Brewing Co.\, 250 S. State St.\, stop at various Prohibition-related sites in Uptown and also stop at Fattey Beer Co.\, 79 S. State St. \nThe tour guides will be two 1977 graduates of Westerville South High School: Kurt Sima\, owner of Eric Beer Trips (epicbeertirps.com) and Dr. Mark Grimsley\, a history professor at Ohio State University. The history lessons will be based on the Uptown Westerville Inc. book by Joe Meyer\, Westerville: The War Machine of Prohibition. Beer samples for this tour will be served at North High Brewing and Fattey Beer Company. \nParticipants should be able to walk approximately 2 miles for the tour. The Beer Walks will be held rain or shine. Tickets available HERE. \nVisit Westerville is the presenting sponsor for all UWI Walking Events in 2024. \n 
URL:https://uptownwestervilleinc.com/event/uptown-epic-beer-walk-4/2024-06-15/
LOCATION:Uptown Westerville District\, 21 S. State St.\, Westerville\, OH\, 43081\, United States
CATEGORIES:State Street News,Walking Tours
ATTACH;FMTTYPE=image/webp:https://uptownwestervilleinc.com/wp-content/uploads/2024/03/E-Beer-Walk_calendar-graphic-1.webp
ORGANIZER;CN="Uptown Westerville Inc - UWI":MAILTO:dir@uptownwestervilleinc.com
GEO:40.1252264;-82.9317573
X-APPLE-STRUCTURED-LOCATION;VALUE=URI;X-ADDRESS=Uptown Westerville District 21 S. State St. Westerville OH 43081 United States;X-APPLE-RADIUS=500;X-TITLE=21 S. State St.:geo:-82.9317573,40.1252264
END:VEVENT
BEGIN:VEVENT
DTSTART;TZID=America/New_York:20240518T140000
DTEND;TZID=America/New_York:20240518T160000
DTSTAMP:20260419T210052
CREATED:20240314T191938Z
LAST-MODIFIED:20240404T232842Z
UID:990000684-1716040800-1716048000@uptownwestervilleinc.com
SUMMARY:Uptown Epic Beer Walk
DESCRIPTION:Uptown Epic Beer Walk\n2-4 p.m. Saturdays April 6-Oct. 26\n\n\nWhere History Meets Beer in Uptown Westerville Every Week. This two-hour walking tour will focus on historical information about Westerville’s Temperance past\, and teach participants about beer\, including samplings. \nUptown Westerville Inc.’s Epic Beer Walks will begin at North High Brewing Co.\, 250 S. State St.\, stop at various Prohibition-related sites in Uptown and also stop at Fattey Beer Co.\, 79 S. State St. \nThe tour guides will be two 1977 graduates of Westerville South High School: Kurt Sima\, owner of Eric Beer Trips (epicbeertirps.com) and Dr. Mark Grimsley\, a history professor at Ohio State University. The history lessons will be based on the Uptown Westerville Inc. book by Joe Meyer\, Westerville: The War Machine of Prohibition. Beer samples for this tour will be served at North High Brewing and Fattey Beer Company. \nParticipants should be able to walk approximately 2 miles for the tour. The Beer Walks will be held rain or shine. Tickets available HERE. \nVisit Westerville is the presenting sponsor for all UWI Walking Events in 2024. \n 
URL:https://uptownwestervilleinc.com/event/uptown-epic-beer-walk/2024-05-18/
LOCATION:Uptown Westerville District\, 21 S. State St.\, Westerville\, OH\, 43081\, United States
CATEGORIES:State Street News,Walking Tours
ATTACH;FMTTYPE=image/webp:https://uptownwestervilleinc.com/wp-content/uploads/2024/03/E-Beer-Walk_calendar-graphic-1.webp
ORGANIZER;CN="Uptown Westerville Inc - UWI":MAILTO:dir@uptownwestervilleinc.com
GEO:40.1252264;-82.9317573
X-APPLE-STRUCTURED-LOCATION;VALUE=URI;X-ADDRESS=Uptown Westerville District 21 S. State St. Westerville OH 43081 United States;X-APPLE-RADIUS=500;X-TITLE=21 S. State St.:geo:-82.9317573,40.1252264
END:VEVENT
BEGIN:VEVENT
DTSTART;TZID=America/New_York:20240511T140000
DTEND;TZID=America/New_York:20240511T160000
DTSTAMP:20260419T210052
CREATED:20240314T191938Z
LAST-MODIFIED:20240404T232842Z
UID:990000683-1715436000-1715443200@uptownwestervilleinc.com
SUMMARY:Uptown Epic Beer Walk
DESCRIPTION:Uptown Epic Beer Walk\n2-4 p.m. Saturdays April 6-Oct. 26\n\n\nWhere History Meets Beer in Uptown Westerville Every Week. This two-hour walking tour will focus on historical information about Westerville’s Temperance past\, and teach participants about beer\, including samplings. \nUptown Westerville Inc.’s Epic Beer Walks will begin at North High Brewing Co.\, 250 S. State St.\, stop at various Prohibition-related sites in Uptown and also stop at Fattey Beer Co.\, 79 S. State St. \nThe tour guides will be two 1977 graduates of Westerville South High School: Kurt Sima\, owner of Eric Beer Trips (epicbeertirps.com) and Dr. Mark Grimsley\, a history professor at Ohio State University. The history lessons will be based on the Uptown Westerville Inc. book by Joe Meyer\, Westerville: The War Machine of Prohibition. Beer samples for this tour will be served at North High Brewing and Fattey Beer Company. \nParticipants should be able to walk approximately 2 miles for the tour. The Beer Walks will be held rain or shine. Tickets available HERE. \nVisit Westerville is the presenting sponsor for all UWI Walking Events in 2024. \n 
URL:https://uptownwestervilleinc.com/event/uptown-epic-beer-walk/2024-05-11/
LOCATION:Uptown Westerville District\, 21 S. State St.\, Westerville\, OH\, 43081\, United States
CATEGORIES:State Street News,Walking Tours
ATTACH;FMTTYPE=image/webp:https://uptownwestervilleinc.com/wp-content/uploads/2024/03/E-Beer-Walk_calendar-graphic-1.webp
ORGANIZER;CN="Uptown Westerville Inc - UWI":MAILTO:dir@uptownwestervilleinc.com
GEO:40.1252264;-82.9317573
X-APPLE-STRUCTURED-LOCATION;VALUE=URI;X-ADDRESS=Uptown Westerville District 21 S. State St. Westerville OH 43081 United States;X-APPLE-RADIUS=500;X-TITLE=21 S. State St.:geo:-82.9317573,40.1252264
END:VEVENT
BEGIN:VEVENT
DTSTART;TZID=America/New_York:20240504T140000
DTEND;TZID=America/New_York:20240504T160000
DTSTAMP:20260419T210052
CREATED:20240314T191938Z
LAST-MODIFIED:20240404T232842Z
UID:990000682-1714831200-1714838400@uptownwestervilleinc.com
SUMMARY:Uptown Epic Beer Walk
DESCRIPTION:Uptown Epic Beer Walk\n2-4 p.m. Saturdays April 6-Oct. 26\n\n\nWhere History Meets Beer in Uptown Westerville Every Week. This two-hour walking tour will focus on historical information about Westerville’s Temperance past\, and teach participants about beer\, including samplings. \nUptown Westerville Inc.’s Epic Beer Walks will begin at North High Brewing Co.\, 250 S. State St.\, stop at various Prohibition-related sites in Uptown and also stop at Fattey Beer Co.\, 79 S. State St. \nThe tour guides will be two 1977 graduates of Westerville South High School: Kurt Sima\, owner of Eric Beer Trips (epicbeertirps.com) and Dr. Mark Grimsley\, a history professor at Ohio State University. The history lessons will be based on the Uptown Westerville Inc. book by Joe Meyer\, Westerville: The War Machine of Prohibition. Beer samples for this tour will be served at North High Brewing and Fattey Beer Company. \nParticipants should be able to walk approximately 2 miles for the tour. The Beer Walks will be held rain or shine. Tickets available HERE. \nVisit Westerville is the presenting sponsor for all UWI Walking Events in 2024. \n 
URL:https://uptownwestervilleinc.com/event/uptown-epic-beer-walk/2024-05-04/
LOCATION:Uptown Westerville District\, 21 S. State St.\, Westerville\, OH\, 43081\, United States
CATEGORIES:State Street News,Walking Tours
ATTACH;FMTTYPE=image/webp:https://uptownwestervilleinc.com/wp-content/uploads/2024/03/E-Beer-Walk_calendar-graphic-1.webp
ORGANIZER;CN="Uptown Westerville Inc - UWI":MAILTO:dir@uptownwestervilleinc.com
GEO:40.1252264;-82.9317573
X-APPLE-STRUCTURED-LOCATION;VALUE=URI;X-ADDRESS=Uptown Westerville District 21 S. State St. Westerville OH 43081 United States;X-APPLE-RADIUS=500;X-TITLE=21 S. State St.:geo:-82.9317573,40.1252264
END:VEVENT
BEGIN:VEVENT
DTSTART;TZID=America/New_York:20240427T140000
DTEND;TZID=America/New_York:20240427T160000
DTSTAMP:20260419T210052
CREATED:20240404T232920Z
LAST-MODIFIED:20240404T232952Z
UID:990000681-1714226400-1714233600@uptownwestervilleinc.com
SUMMARY:Uptown Epic Beer Walk
DESCRIPTION:Uptown Epic Beer Walk\n2-4 p.m. Saturdays April 6-Oct. 26\n\n\nWhere History Meets Beer in Uptown Westerville Every Week. This two-hour walking tour will focus on historical information about Westerville’s Temperance past\, and teach participants about beer\, including samplings. \nUptown Westerville Inc.’s Epic Beer Walks will begin at North High Brewing Co.\, 250 S. State St.\, stop at various Prohibition-related sites in Uptown and also stop at Fattey Beer Co.\, 79 S. State St. \nThe tour guides will be two 1977 graduates of Westerville South High School: Kurt Sima\, owner of Eric Beer Trips (epicbeertirps.com) and Dr. Mark Grimsley\, a history professor at Ohio State University. The history lessons will be based on the Uptown Westerville Inc. book by Joe Meyer\, Westerville: The War Machine of Prohibition. Beer samples for this tour will be served at North High Brewing and Fattey Beer Company. \nParticipants should be able to walk approximately 2 miles for the tour. The Beer Walks will be held rain or shine. Tickets available HERE. \nVisit Westerville is the presenting sponsor for all UWI Walking Events in 2024. \n 
URL:https://uptownwestervilleinc.com/event/uptown-epic-beer-walk-3/
LOCATION:Uptown Westerville District\, 21 S. State St.\, Westerville\, OH\, 43081\, United States
CATEGORIES:State Street News,Walking Tours
ATTACH;FMTTYPE=image/webp:https://uptownwestervilleinc.com/wp-content/uploads/2024/03/E-Beer-Walk_calendar-graphic-1.webp
ORGANIZER;CN="Uptown Westerville Inc - UWI":MAILTO:dir@uptownwestervilleinc.com
GEO:40.1252264;-82.9317573
X-APPLE-STRUCTURED-LOCATION;VALUE=URI;X-ADDRESS=Uptown Westerville District 21 S. State St. Westerville OH 43081 United States;X-APPLE-RADIUS=500;X-TITLE=21 S. State St.:geo:-82.9317573,40.1252264
END:VEVENT
BEGIN:VEVENT
DTSTART;TZID=America/New_York:20240420T140000
DTEND;TZID=America/New_York:20240420T160000
DTSTAMP:20260419T210052
CREATED:20240404T232444Z
LAST-MODIFIED:20240404T233744Z
UID:990000680-1713621600-1713628800@uptownwestervilleinc.com
SUMMARY:Uptown Epic Beer Walk
DESCRIPTION:Uptown Epic Beer Walk\n2-4 p.m. Saturdays April 20-Oct. 26\n\n\nNEW START DATE: Where History Meets Beer in Uptown Westerville Every Week. This two-hour walking tour will focus on historical information about Westerville’s Temperance past\, and teach participants about beer\, including samplings. \nUptown Westerville Inc.’s Epic Beer Walks will begin at North High Brewing Co.\, 250 S. State St.\, stop at various Prohibition-related sites in Uptown and also stop at Fattey Beer Co.\, 79 S. State St. \nThe tour guides will be two 1977 graduates of Westerville South High School: Kurt Sima\, owner of Eric Beer Trips (epicbeertirps.com) and Dr. Mark Grimsley\, a history professor at Ohio State University. The history lessons will be based on the Uptown Westerville Inc. book by Joe Meyer\, Westerville: The War Machine of Prohibition. Beer samples for this tour will be served at North High Brewing and Fattey Beer Company. \nParticipants should be able to walk approximately 2 miles for the tour. The Beer Walks will be held rain or shine. Tickets available HERE. \nVisit Westerville is the presenting sponsor for all UWI Walking Events in 2024. \n 
URL:https://uptownwestervilleinc.com/event/uptown-epic-beer-walk-2/
LOCATION:Uptown Westerville District\, 21 S. State St.\, Westerville\, OH\, 43081\, United States
CATEGORIES:State Street News,Walking Tours
ATTACH;FMTTYPE=image/webp:https://uptownwestervilleinc.com/wp-content/uploads/2024/03/E-Beer-Walk_calendar-graphic-1.webp
ORGANIZER;CN="Uptown Westerville Inc - UWI":MAILTO:dir@uptownwestervilleinc.com
GEO:40.1252264;-82.9317573
X-APPLE-STRUCTURED-LOCATION;VALUE=URI;X-ADDRESS=Uptown Westerville District 21 S. State St. Westerville OH 43081 United States;X-APPLE-RADIUS=500;X-TITLE=21 S. State St.:geo:-82.9317573,40.1252264
END:VEVENT
END:VCALENDAR