BEGIN:VCALENDAR
VERSION:2.0
PRODID:-//Uptown Westerville Inc - ECPv6.15.20//NONSGML v1.0//EN
CALSCALE:GREGORIAN
METHOD:PUBLISH
X-WR-CALNAME:Uptown Westerville Inc
X-ORIGINAL-URL:https://uptownwestervilleinc.com
X-WR-CALDESC:Events for Uptown Westerville Inc
REFRESH-INTERVAL;VALUE=DURATION:PT1H
X-Robots-Tag:noindex
X-PUBLISHED-TTL:PT1H
BEGIN:VTIMEZONE
TZID:America/New_York
BEGIN:DAYLIGHT
TZOFFSETFROM:-0500
TZOFFSETTO:-0400
TZNAME:EDT
DTSTART:20230312T070000
END:DAYLIGHT
BEGIN:STANDARD
TZOFFSETFROM:-0400
TZOFFSETTO:-0500
TZNAME:EST
DTSTART:20231105T060000
END:STANDARD
BEGIN:DAYLIGHT
TZOFFSETFROM:-0500
TZOFFSETTO:-0400
TZNAME:EDT
DTSTART:20240310T070000
END:DAYLIGHT
BEGIN:STANDARD
TZOFFSETFROM:-0400
TZOFFSETTO:-0500
TZNAME:EST
DTSTART:20241103T060000
END:STANDARD
BEGIN:DAYLIGHT
TZOFFSETFROM:-0500
TZOFFSETTO:-0400
TZNAME:EDT
DTSTART:20250309T070000
END:DAYLIGHT
BEGIN:STANDARD
TZOFFSETFROM:-0400
TZOFFSETTO:-0500
TZNAME:EST
DTSTART:20251102T060000
END:STANDARD
BEGIN:DAYLIGHT
TZOFFSETFROM:-0500
TZOFFSETTO:-0400
TZNAME:EDT
DTSTART:20260308T070000
END:DAYLIGHT
BEGIN:STANDARD
TZOFFSETFROM:-0400
TZOFFSETTO:-0500
TZNAME:EST
DTSTART:20261101T060000
END:STANDARD
END:VTIMEZONE
BEGIN:VEVENT
DTSTART;TZID=America/New_York:20251019T183000
DTEND;TZID=America/New_York:20251019T220000
DTSTAMP:20260420T214631
CREATED:20251009T130351Z
LAST-MODIFIED:20251009T131210Z
UID:990002192-1760898600-1760911200@uptownwestervilleinc.com
SUMMARY:The Great Westerville Pumpkin Glow 2025
DESCRIPTION:Your Favorite Fall Tradition!\nThis year\, the Great Westerville Pumpkin Glow will be bigger and better than ever\, with improved jack-o-lantern and pumpkin themed displays\, food trucks\, and fall themed entertainment and attractions that will include axe-throwing\, glow in the dark mini golf\, inflatables and much more! \nThe Pumpkin Glow Trail\nAll of Heritage Park will be used for the event in 2024\, offering more space to stretch out and explore. The trail will pick-up in new locations\, also spreading out for more to enjoy. \nExhibits\nSpecial exhibits and not-so-scary features will be dotted throughout the park. The biggest gourds we can find will be on display\, and we’ll be adding new features every year. \nFun and Games\nMore rides and attractions? You got it. Watch for axe-throwing and pumpkin riding to return\, along with other family-friendly and fun games and attractions. \nFood and Music\nMake it a night by planning dinner\, snacks and extra entertainment at the event. New in 2024\, we’ll be introducing expanded entertainment more food trucks and carts and various themed “pumpkin” offerings. \nDownload Parking Map \n 
URL:https://uptownwestervilleinc.com/event/the-great-westerville-pumpkin-glow-2025/2025-10-19/
LOCATION:Heritage Park\, North Cleveland Avenue\, Westerville\, Ohio\, 43081\, United States
CATEGORIES:Holiday events,In the area
ATTACH;FMTTYPE=image/webp:https://uptownwestervilleinc.com/wp-content/uploads/2025/10/10-16-25-pumpkin-glow.webp
GEO:40.1266242;-82.9477286
X-APPLE-STRUCTURED-LOCATION;VALUE=URI;X-ADDRESS=Heritage Park North Cleveland Avenue Westerville Ohio 43081 United States;X-APPLE-RADIUS=500;X-TITLE=North Cleveland Avenue:geo:-82.9477286,40.1266242
END:VEVENT
BEGIN:VEVENT
DTSTART;TZID=America/New_York:20251018T183000
DTEND;TZID=America/New_York:20251018T220000
DTSTAMP:20260420T214631
CREATED:20251009T130351Z
LAST-MODIFIED:20251009T131210Z
UID:990002191-1760812200-1760824800@uptownwestervilleinc.com
SUMMARY:The Great Westerville Pumpkin Glow 2025
DESCRIPTION:Your Favorite Fall Tradition!\nThis year\, the Great Westerville Pumpkin Glow will be bigger and better than ever\, with improved jack-o-lantern and pumpkin themed displays\, food trucks\, and fall themed entertainment and attractions that will include axe-throwing\, glow in the dark mini golf\, inflatables and much more! \nThe Pumpkin Glow Trail\nAll of Heritage Park will be used for the event in 2024\, offering more space to stretch out and explore. The trail will pick-up in new locations\, also spreading out for more to enjoy. \nExhibits\nSpecial exhibits and not-so-scary features will be dotted throughout the park. The biggest gourds we can find will be on display\, and we’ll be adding new features every year. \nFun and Games\nMore rides and attractions? You got it. Watch for axe-throwing and pumpkin riding to return\, along with other family-friendly and fun games and attractions. \nFood and Music\nMake it a night by planning dinner\, snacks and extra entertainment at the event. New in 2024\, we’ll be introducing expanded entertainment more food trucks and carts and various themed “pumpkin” offerings. \nDownload Parking Map \n 
URL:https://uptownwestervilleinc.com/event/the-great-westerville-pumpkin-glow-2025/2025-10-18/
LOCATION:Heritage Park\, North Cleveland Avenue\, Westerville\, Ohio\, 43081\, United States
CATEGORIES:Holiday events,In the area
ATTACH;FMTTYPE=image/webp:https://uptownwestervilleinc.com/wp-content/uploads/2025/10/10-16-25-pumpkin-glow.webp
GEO:40.1266242;-82.9477286
X-APPLE-STRUCTURED-LOCATION;VALUE=URI;X-ADDRESS=Heritage Park North Cleveland Avenue Westerville Ohio 43081 United States;X-APPLE-RADIUS=500;X-TITLE=North Cleveland Avenue:geo:-82.9477286,40.1266242
END:VEVENT
BEGIN:VEVENT
DTSTART;TZID=America/New_York:20251017T183000
DTEND;TZID=America/New_York:20251017T220000
DTSTAMP:20260420T214631
CREATED:20251009T130351Z
LAST-MODIFIED:20251009T131210Z
UID:990002190-1760725800-1760738400@uptownwestervilleinc.com
SUMMARY:The Great Westerville Pumpkin Glow 2025
DESCRIPTION:Your Favorite Fall Tradition!\nThis year\, the Great Westerville Pumpkin Glow will be bigger and better than ever\, with improved jack-o-lantern and pumpkin themed displays\, food trucks\, and fall themed entertainment and attractions that will include axe-throwing\, glow in the dark mini golf\, inflatables and much more! \nThe Pumpkin Glow Trail\nAll of Heritage Park will be used for the event in 2024\, offering more space to stretch out and explore. The trail will pick-up in new locations\, also spreading out for more to enjoy. \nExhibits\nSpecial exhibits and not-so-scary features will be dotted throughout the park. The biggest gourds we can find will be on display\, and we’ll be adding new features every year. \nFun and Games\nMore rides and attractions? You got it. Watch for axe-throwing and pumpkin riding to return\, along with other family-friendly and fun games and attractions. \nFood and Music\nMake it a night by planning dinner\, snacks and extra entertainment at the event. New in 2024\, we’ll be introducing expanded entertainment more food trucks and carts and various themed “pumpkin” offerings. \nDownload Parking Map \n 
URL:https://uptownwestervilleinc.com/event/the-great-westerville-pumpkin-glow-2025/2025-10-17/
LOCATION:Heritage Park\, North Cleveland Avenue\, Westerville\, Ohio\, 43081\, United States
CATEGORIES:Holiday events,In the area
ATTACH;FMTTYPE=image/webp:https://uptownwestervilleinc.com/wp-content/uploads/2025/10/10-16-25-pumpkin-glow.webp
GEO:40.1266242;-82.9477286
X-APPLE-STRUCTURED-LOCATION;VALUE=URI;X-ADDRESS=Heritage Park North Cleveland Avenue Westerville Ohio 43081 United States;X-APPLE-RADIUS=500;X-TITLE=North Cleveland Avenue:geo:-82.9477286,40.1266242
END:VEVENT
BEGIN:VEVENT
DTSTART;TZID=America/New_York:20251016T183000
DTEND;TZID=America/New_York:20251016T220000
DTSTAMP:20260420T214631
CREATED:20251009T130351Z
LAST-MODIFIED:20251009T131210Z
UID:990002189-1760639400-1760652000@uptownwestervilleinc.com
SUMMARY:The Great Westerville Pumpkin Glow 2025
DESCRIPTION:Your Favorite Fall Tradition!\nThis year\, the Great Westerville Pumpkin Glow will be bigger and better than ever\, with improved jack-o-lantern and pumpkin themed displays\, food trucks\, and fall themed entertainment and attractions that will include axe-throwing\, glow in the dark mini golf\, inflatables and much more! \nThe Pumpkin Glow Trail\nAll of Heritage Park will be used for the event in 2024\, offering more space to stretch out and explore. The trail will pick-up in new locations\, also spreading out for more to enjoy. \nExhibits\nSpecial exhibits and not-so-scary features will be dotted throughout the park. The biggest gourds we can find will be on display\, and we’ll be adding new features every year. \nFun and Games\nMore rides and attractions? You got it. Watch for axe-throwing and pumpkin riding to return\, along with other family-friendly and fun games and attractions. \nFood and Music\nMake it a night by planning dinner\, snacks and extra entertainment at the event. New in 2024\, we’ll be introducing expanded entertainment more food trucks and carts and various themed “pumpkin” offerings. \nDownload Parking Map \n 
URL:https://uptownwestervilleinc.com/event/the-great-westerville-pumpkin-glow-2025/2025-10-16/
LOCATION:Heritage Park\, North Cleveland Avenue\, Westerville\, Ohio\, 43081\, United States
CATEGORIES:Holiday events,In the area
ATTACH;FMTTYPE=image/webp:https://uptownwestervilleinc.com/wp-content/uploads/2025/10/10-16-25-pumpkin-glow.webp
GEO:40.1266242;-82.9477286
X-APPLE-STRUCTURED-LOCATION;VALUE=URI;X-ADDRESS=Heritage Park North Cleveland Avenue Westerville Ohio 43081 United States;X-APPLE-RADIUS=500;X-TITLE=North Cleveland Avenue:geo:-82.9477286,40.1266242
END:VEVENT
BEGIN:VEVENT
DTSTART;TZID=America/New_York:20241020T183000
DTEND;TZID=America/New_York:20241020T220000
DTSTAMP:20260420T214631
CREATED:20241012T041450Z
LAST-MODIFIED:20241012T041456Z
UID:990000928-1729449000-1729461600@uptownwestervilleinc.com
SUMMARY:The Great Westerville Pumpkin Glow 2024
DESCRIPTION:The Great Westerville Pumpkin Glow is the City of Westerville’s signature fall event! \nWind your way through special exhibits and an enchanting trail of glowing pumpkins dotted throughout Heritage Park. \nThe largest gourds we could find will be on display and plenty of fun activities are included with the price of admission. \nTIME\, DATE\, PLACE: 6:30-10 p.m. (final trail entrance at 9:30 p.m.)\, Oct.17 through Oct. 20 at Heritage Park\, 60 N. Cleveland Ave. \nTICKETS are available for purchase online only. Cost: $15 for adults\, $12 youth ages 3-15 and seniors\, and free for children under 3. Tickets are available now at www.westerville.org/tickets. PLEASE NOTE: There will be NO TICKET SALES AT THE EVENT. \nActivities included with admission\n\nAxe Throwing\nPumpkin Bowling\nMechanical Pumpkin Ride\nLED Putt-Putt\nInflatable Corn Maze\nPumpkin Bounce House and Inflatables\n\nEnjoy the food trucks\nMake a meal of it! Come hungry for the following food truck vendors (with some offering pumpkin-themed items): \n\nColumbus Coffee Company\, Eaton Cookies\, Funnel Cake Station\, Game Day Kettle Corn\, Grilled Cheese Gangsters;\nImpastas\, JP Specials\, Komodo Loco\, Medallen’s Gyros\, On The Fly Pizza Guy;\nSchmidt’s\, Snow Sisters\, Spark’s BBQ\, The Forking Pierogi\, and Zapata’s.\n\nIf you are attending\nHere’s what you need to know before you head to The Glow: \nEntrances/Exits\nTwo entrances/exits are now available to help ease the process of getting into and leaving the event space. \n\nMain Street\nCleveland Avenue\n\nPlease remember to bring your tickets with you to the event. \nParking at the Event\nDue to the high volume of attendees expected each night\, parking at Heritage Park will not be available. Available parking lots include: \n\nThe Point at Otterbein University\, 60 Collegeview Rd.\nCOTA Parking Lot\, 312 W. Main St.\, ADA Accessible Parking\nWesterville Sports Complex\, 325 N. Cleveland Ave.\nWesterville Community Center\, 350 N. Cleveland Ave.\n\nAll parking lots are a short walk to The Glow. Please remember which lot you have parked in\, and which entrance is the closest. \nAs always\, we thank attendees for their patience and courtesy.
URL:https://uptownwestervilleinc.com/event/the-great-westerville-pumpkin-glow-2024/2024-10-20/
LOCATION:Heritage Park\, North Cleveland Avenue\, Westerville\, Ohio\, 43081\, United States
CATEGORIES:In the area
ATTACH;FMTTYPE=image/webp:https://uptownwestervilleinc.com/wp-content/uploads/2024/10/10-17-24-Westerville-Pumpkin-Glow-pic.webp
GEO:40.1266242;-82.9477286
X-APPLE-STRUCTURED-LOCATION;VALUE=URI;X-ADDRESS=Heritage Park North Cleveland Avenue Westerville Ohio 43081 United States;X-APPLE-RADIUS=500;X-TITLE=North Cleveland Avenue:geo:-82.9477286,40.1266242
END:VEVENT
BEGIN:VEVENT
DTSTART;TZID=America/New_York:20241019T183000
DTEND;TZID=America/New_York:20241019T220000
DTSTAMP:20260420T214631
CREATED:20241012T041450Z
LAST-MODIFIED:20241012T041456Z
UID:990000927-1729362600-1729375200@uptownwestervilleinc.com
SUMMARY:The Great Westerville Pumpkin Glow 2024
DESCRIPTION:The Great Westerville Pumpkin Glow is the City of Westerville’s signature fall event! \nWind your way through special exhibits and an enchanting trail of glowing pumpkins dotted throughout Heritage Park. \nThe largest gourds we could find will be on display and plenty of fun activities are included with the price of admission. \nTIME\, DATE\, PLACE: 6:30-10 p.m. (final trail entrance at 9:30 p.m.)\, Oct.17 through Oct. 20 at Heritage Park\, 60 N. Cleveland Ave. \nTICKETS are available for purchase online only. Cost: $15 for adults\, $12 youth ages 3-15 and seniors\, and free for children under 3. Tickets are available now at www.westerville.org/tickets. PLEASE NOTE: There will be NO TICKET SALES AT THE EVENT. \nActivities included with admission\n\nAxe Throwing\nPumpkin Bowling\nMechanical Pumpkin Ride\nLED Putt-Putt\nInflatable Corn Maze\nPumpkin Bounce House and Inflatables\n\nEnjoy the food trucks\nMake a meal of it! Come hungry for the following food truck vendors (with some offering pumpkin-themed items): \n\nColumbus Coffee Company\, Eaton Cookies\, Funnel Cake Station\, Game Day Kettle Corn\, Grilled Cheese Gangsters;\nImpastas\, JP Specials\, Komodo Loco\, Medallen’s Gyros\, On The Fly Pizza Guy;\nSchmidt’s\, Snow Sisters\, Spark’s BBQ\, The Forking Pierogi\, and Zapata’s.\n\nIf you are attending\nHere’s what you need to know before you head to The Glow: \nEntrances/Exits\nTwo entrances/exits are now available to help ease the process of getting into and leaving the event space. \n\nMain Street\nCleveland Avenue\n\nPlease remember to bring your tickets with you to the event. \nParking at the Event\nDue to the high volume of attendees expected each night\, parking at Heritage Park will not be available. Available parking lots include: \n\nThe Point at Otterbein University\, 60 Collegeview Rd.\nCOTA Parking Lot\, 312 W. Main St.\, ADA Accessible Parking\nWesterville Sports Complex\, 325 N. Cleveland Ave.\nWesterville Community Center\, 350 N. Cleveland Ave.\n\nAll parking lots are a short walk to The Glow. Please remember which lot you have parked in\, and which entrance is the closest. \nAs always\, we thank attendees for their patience and courtesy.
URL:https://uptownwestervilleinc.com/event/the-great-westerville-pumpkin-glow-2024/2024-10-19/
LOCATION:Heritage Park\, North Cleveland Avenue\, Westerville\, Ohio\, 43081\, United States
CATEGORIES:In the area
ATTACH;FMTTYPE=image/webp:https://uptownwestervilleinc.com/wp-content/uploads/2024/10/10-17-24-Westerville-Pumpkin-Glow-pic.webp
GEO:40.1266242;-82.9477286
X-APPLE-STRUCTURED-LOCATION;VALUE=URI;X-ADDRESS=Heritage Park North Cleveland Avenue Westerville Ohio 43081 United States;X-APPLE-RADIUS=500;X-TITLE=North Cleveland Avenue:geo:-82.9477286,40.1266242
END:VEVENT
BEGIN:VEVENT
DTSTART;TZID=America/New_York:20241018T183000
DTEND;TZID=America/New_York:20241018T220000
DTSTAMP:20260420T214631
CREATED:20241012T041450Z
LAST-MODIFIED:20241012T041456Z
UID:990000926-1729276200-1729288800@uptownwestervilleinc.com
SUMMARY:The Great Westerville Pumpkin Glow 2024
DESCRIPTION:The Great Westerville Pumpkin Glow is the City of Westerville’s signature fall event! \nWind your way through special exhibits and an enchanting trail of glowing pumpkins dotted throughout Heritage Park. \nThe largest gourds we could find will be on display and plenty of fun activities are included with the price of admission. \nTIME\, DATE\, PLACE: 6:30-10 p.m. (final trail entrance at 9:30 p.m.)\, Oct.17 through Oct. 20 at Heritage Park\, 60 N. Cleveland Ave. \nTICKETS are available for purchase online only. Cost: $15 for adults\, $12 youth ages 3-15 and seniors\, and free for children under 3. Tickets are available now at www.westerville.org/tickets. PLEASE NOTE: There will be NO TICKET SALES AT THE EVENT. \nActivities included with admission\n\nAxe Throwing\nPumpkin Bowling\nMechanical Pumpkin Ride\nLED Putt-Putt\nInflatable Corn Maze\nPumpkin Bounce House and Inflatables\n\nEnjoy the food trucks\nMake a meal of it! Come hungry for the following food truck vendors (with some offering pumpkin-themed items): \n\nColumbus Coffee Company\, Eaton Cookies\, Funnel Cake Station\, Game Day Kettle Corn\, Grilled Cheese Gangsters;\nImpastas\, JP Specials\, Komodo Loco\, Medallen’s Gyros\, On The Fly Pizza Guy;\nSchmidt’s\, Snow Sisters\, Spark’s BBQ\, The Forking Pierogi\, and Zapata’s.\n\nIf you are attending\nHere’s what you need to know before you head to The Glow: \nEntrances/Exits\nTwo entrances/exits are now available to help ease the process of getting into and leaving the event space. \n\nMain Street\nCleveland Avenue\n\nPlease remember to bring your tickets with you to the event. \nParking at the Event\nDue to the high volume of attendees expected each night\, parking at Heritage Park will not be available. Available parking lots include: \n\nThe Point at Otterbein University\, 60 Collegeview Rd.\nCOTA Parking Lot\, 312 W. Main St.\, ADA Accessible Parking\nWesterville Sports Complex\, 325 N. Cleveland Ave.\nWesterville Community Center\, 350 N. Cleveland Ave.\n\nAll parking lots are a short walk to The Glow. Please remember which lot you have parked in\, and which entrance is the closest. \nAs always\, we thank attendees for their patience and courtesy.
URL:https://uptownwestervilleinc.com/event/the-great-westerville-pumpkin-glow-2024/2024-10-18/
LOCATION:Heritage Park\, North Cleveland Avenue\, Westerville\, Ohio\, 43081\, United States
CATEGORIES:In the area
ATTACH;FMTTYPE=image/webp:https://uptownwestervilleinc.com/wp-content/uploads/2024/10/10-17-24-Westerville-Pumpkin-Glow-pic.webp
GEO:40.1266242;-82.9477286
X-APPLE-STRUCTURED-LOCATION;VALUE=URI;X-ADDRESS=Heritage Park North Cleveland Avenue Westerville Ohio 43081 United States;X-APPLE-RADIUS=500;X-TITLE=North Cleveland Avenue:geo:-82.9477286,40.1266242
END:VEVENT
BEGIN:VEVENT
DTSTART;TZID=America/New_York:20241017T183000
DTEND;TZID=America/New_York:20241017T220000
DTSTAMP:20260420T214631
CREATED:20241012T041450Z
LAST-MODIFIED:20241012T041456Z
UID:990000925-1729189800-1729202400@uptownwestervilleinc.com
SUMMARY:The Great Westerville Pumpkin Glow 2024
DESCRIPTION:The Great Westerville Pumpkin Glow is the City of Westerville’s signature fall event! \nWind your way through special exhibits and an enchanting trail of glowing pumpkins dotted throughout Heritage Park. \nThe largest gourds we could find will be on display and plenty of fun activities are included with the price of admission. \nTIME\, DATE\, PLACE: 6:30-10 p.m. (final trail entrance at 9:30 p.m.)\, Oct.17 through Oct. 20 at Heritage Park\, 60 N. Cleveland Ave. \nTICKETS are available for purchase online only. Cost: $15 for adults\, $12 youth ages 3-15 and seniors\, and free for children under 3. Tickets are available now at www.westerville.org/tickets. PLEASE NOTE: There will be NO TICKET SALES AT THE EVENT. \nActivities included with admission\n\nAxe Throwing\nPumpkin Bowling\nMechanical Pumpkin Ride\nLED Putt-Putt\nInflatable Corn Maze\nPumpkin Bounce House and Inflatables\n\nEnjoy the food trucks\nMake a meal of it! Come hungry for the following food truck vendors (with some offering pumpkin-themed items): \n\nColumbus Coffee Company\, Eaton Cookies\, Funnel Cake Station\, Game Day Kettle Corn\, Grilled Cheese Gangsters;\nImpastas\, JP Specials\, Komodo Loco\, Medallen’s Gyros\, On The Fly Pizza Guy;\nSchmidt’s\, Snow Sisters\, Spark’s BBQ\, The Forking Pierogi\, and Zapata’s.\n\nIf you are attending\nHere’s what you need to know before you head to The Glow: \nEntrances/Exits\nTwo entrances/exits are now available to help ease the process of getting into and leaving the event space. \n\nMain Street\nCleveland Avenue\n\nPlease remember to bring your tickets with you to the event. \nParking at the Event\nDue to the high volume of attendees expected each night\, parking at Heritage Park will not be available. Available parking lots include: \n\nThe Point at Otterbein University\, 60 Collegeview Rd.\nCOTA Parking Lot\, 312 W. Main St.\, ADA Accessible Parking\nWesterville Sports Complex\, 325 N. Cleveland Ave.\nWesterville Community Center\, 350 N. Cleveland Ave.\n\nAll parking lots are a short walk to The Glow. Please remember which lot you have parked in\, and which entrance is the closest. \nAs always\, we thank attendees for their patience and courtesy.
URL:https://uptownwestervilleinc.com/event/the-great-westerville-pumpkin-glow-2024/2024-10-17/
LOCATION:Heritage Park\, North Cleveland Avenue\, Westerville\, Ohio\, 43081\, United States
CATEGORIES:In the area
ATTACH;FMTTYPE=image/webp:https://uptownwestervilleinc.com/wp-content/uploads/2024/10/10-17-24-Westerville-Pumpkin-Glow-pic.webp
GEO:40.1266242;-82.9477286
X-APPLE-STRUCTURED-LOCATION;VALUE=URI;X-ADDRESS=Heritage Park North Cleveland Avenue Westerville Ohio 43081 United States;X-APPLE-RADIUS=500;X-TITLE=North Cleveland Avenue:geo:-82.9477286,40.1266242
END:VEVENT
END:VCALENDAR