BEGIN:VCALENDAR
VERSION:2.0
PRODID:-//Uptown Westerville Inc - ECPv6.15.20//NONSGML v1.0//EN
CALSCALE:GREGORIAN
METHOD:PUBLISH
X-ORIGINAL-URL:https://uptownwestervilleinc.com
X-WR-CALDESC:Events for Uptown Westerville Inc
REFRESH-INTERVAL;VALUE=DURATION:PT1H
X-Robots-Tag:noindex
X-PUBLISHED-TTL:PT1H
BEGIN:VTIMEZONE
TZID:America/New_York
BEGIN:DAYLIGHT
TZOFFSETFROM:-0500
TZOFFSETTO:-0400
TZNAME:EDT
DTSTART:20230312T070000
END:DAYLIGHT
BEGIN:STANDARD
TZOFFSETFROM:-0400
TZOFFSETTO:-0500
TZNAME:EST
DTSTART:20231105T060000
END:STANDARD
BEGIN:DAYLIGHT
TZOFFSETFROM:-0500
TZOFFSETTO:-0400
TZNAME:EDT
DTSTART:20240310T070000
END:DAYLIGHT
BEGIN:STANDARD
TZOFFSETFROM:-0400
TZOFFSETTO:-0500
TZNAME:EST
DTSTART:20241103T060000
END:STANDARD
BEGIN:DAYLIGHT
TZOFFSETFROM:-0500
TZOFFSETTO:-0400
TZNAME:EDT
DTSTART:20250309T070000
END:DAYLIGHT
BEGIN:STANDARD
TZOFFSETFROM:-0400
TZOFFSETTO:-0500
TZNAME:EST
DTSTART:20251102T060000
END:STANDARD
BEGIN:DAYLIGHT
TZOFFSETFROM:-0500
TZOFFSETTO:-0400
TZNAME:EDT
DTSTART:20260308T070000
END:DAYLIGHT
BEGIN:STANDARD
TZOFFSETFROM:-0400
TZOFFSETTO:-0500
TZNAME:EST
DTSTART:20261101T060000
END:STANDARD
END:VTIMEZONE
BEGIN:VEVENT
DTSTART;TZID=America/New_York:20250618T130000
DTEND;TZID=America/New_York:20250618T134500
DTSTAMP:20260421T005609
CREATED:20250603T152511Z
LAST-MODIFIED:20250603T155509Z
UID:990001633-1750251600-1750254300@uptownwestervilleinc.com
SUMMARY:WPL program at Inniswood: All About Buckeyes
DESCRIPTION:All About Buckeye Trees (Ages 2-7)\nLearn about Ohio’s state tree\, the buckeye\, and native fruit\, the pawpaw in this Westerville Public Library program for children\, held at Inniswood Metro Garden. \nGet up close with plant artifacts before exploring hands-on activity stations. Presented by Inniswood Metro Gardens educators. \nLocation: Inniswood Metro GardensAddress: 940 S Hempstead Road\, Westerville\, OH 43081Meet at: Innis HouseIf your child is ages 2-7\, you or a caregiver (age 18+) must remain in the room to supervise for the duration of the event.
URL:https://uptownwestervilleinc.com/event/wpl-program-at-inniswood-all-about-buckeyes/
LOCATION:Inniswood Metro Gardens\, 940 S Hempstead Road\, Westerville\, OH\, 43081
CATEGORIES:In the area,Westerville Library Programs
ATTACH;FMTTYPE=image/webp:https://uptownwestervilleinc.com/wp-content/uploads/2025/06/6-18-25-WPL-at-Inniswood-Buckeyes.webp
GEO:40.1019691;-82.9013417
X-APPLE-STRUCTURED-LOCATION;VALUE=URI;X-ADDRESS=Inniswood Metro Gardens 940 S Hempstead Road Westerville OH 43081;X-APPLE-RADIUS=500;X-TITLE=940 S Hempstead Road:geo:-82.9013417,40.1019691
END:VEVENT
BEGIN:VEVENT
DTSTART;TZID=America/New_York:20240612T130000
DTEND;TZID=America/New_York:20240612T140000
DTSTAMP:20260421T005609
CREATED:20240512T133210Z
LAST-MODIFIED:20240512T133216Z
UID:990000766-1718197200-1718200800@uptownwestervilleinc.com
SUMMARY:Animal Olympics at the Park (Ages 2-7)
DESCRIPTION:Animal Olympics at the Park (Ages 2-7)\nWednesday\, June 12\, 1-2 p.m.Inniswood Metro Gardens \nLearn about the fastest animals you can find in Ohio. Get up close with animal artifacts (and perhaps a small animal or two) before exploring hands-on activity stations. Presented by Inniswood Metro Gardens educators. \nLocation: Inniswood Metro GardensAddress: 940 S Hempstead Road\, Westerville\, OH 43081Meet at: Innis HouseFor ages 0-7\, parents or caregivers (age 18+) must remain in the room to supervise for the duration of the event. This event will be held indoors.
URL:https://uptownwestervilleinc.com/event/animal-olympics-at-the-park-ages-2-7/
LOCATION:Inniswood Metro Gardens\, 940 S Hempstead Road\, Westerville\, OH\, 43081
CATEGORIES:Westerville Library Programs
ATTACH;FMTTYPE=image/webp:https://uptownwestervilleinc.com/wp-content/uploads/2024/05/6-12-24-Animals.webp
GEO:40.1019691;-82.9013417
X-APPLE-STRUCTURED-LOCATION;VALUE=URI;X-ADDRESS=Inniswood Metro Gardens 940 S Hempstead Road Westerville OH 43081;X-APPLE-RADIUS=500;X-TITLE=940 S Hempstead Road:geo:-82.9013417,40.1019691
END:VEVENT
END:VCALENDAR