BEGIN:VCALENDAR
VERSION:2.0
PRODID:-//Uptown Westerville Inc - ECPv6.15.20//NONSGML v1.0//EN
CALSCALE:GREGORIAN
METHOD:PUBLISH
X-WR-CALNAME:Uptown Westerville Inc
X-ORIGINAL-URL:https://uptownwestervilleinc.com
X-WR-CALDESC:Events for Uptown Westerville Inc
REFRESH-INTERVAL;VALUE=DURATION:PT1H
X-Robots-Tag:noindex
X-PUBLISHED-TTL:PT1H
BEGIN:VTIMEZONE
TZID:America/New_York
BEGIN:DAYLIGHT
TZOFFSETFROM:-0500
TZOFFSETTO:-0400
TZNAME:EDT
DTSTART:20240310T070000
END:DAYLIGHT
BEGIN:STANDARD
TZOFFSETFROM:-0400
TZOFFSETTO:-0500
TZNAME:EST
DTSTART:20241103T060000
END:STANDARD
BEGIN:DAYLIGHT
TZOFFSETFROM:-0500
TZOFFSETTO:-0400
TZNAME:EDT
DTSTART:20250309T070000
END:DAYLIGHT
BEGIN:STANDARD
TZOFFSETFROM:-0400
TZOFFSETTO:-0500
TZNAME:EST
DTSTART:20251102T060000
END:STANDARD
BEGIN:DAYLIGHT
TZOFFSETFROM:-0500
TZOFFSETTO:-0400
TZNAME:EDT
DTSTART:20260308T070000
END:DAYLIGHT
BEGIN:STANDARD
TZOFFSETFROM:-0400
TZOFFSETTO:-0500
TZNAME:EST
DTSTART:20261101T060000
END:STANDARD
END:VTIMEZONE
BEGIN:VEVENT
DTSTART;TZID=America/New_York:20251221T130000
DTEND;TZID=America/New_York:20251221T150000
DTSTAMP:20260419T190104
CREATED:20251204T200815Z
LAST-MODIFIED:20251204T200815Z
UID:990002616-1766322000-1766329200@uptownwestervilleinc.com
SUMMARY:Holiday Sparkle Centerpiece Workshop
DESCRIPTION:Wear your favorite bling or festive holiday gear and join Westerville Florist to create a holiday sparkle centerpiece! Start with live holiday greens and flowers\, then customize with sparkling accents including berries\, pinecones\, bulbs and more. Ticket includes centerpiece materials and complementary wine or bubbles.
URL:https://uptownwestervilleinc.com/event/holiday-sparkle-centerpiece-workshop/
LOCATION:The Giving Room\, 16 S. State St.\, Westerville\, OH\, 43081\, United States
CATEGORIES:Holiday events
ATTACH;FMTTYPE=image/webp:https://uptownwestervilleinc.com/wp-content/uploads/2025/12/12-21-25-Holiday-Sparkle.webp
ORGANIZER;CN="Westerville Florist":MAILTO:westervilleflorist14@gmail.com
GEO:40.1255415;-82.931227
X-APPLE-STRUCTURED-LOCATION;VALUE=URI;X-ADDRESS=The Giving Room 16 S. State St. Westerville OH 43081 United States;X-APPLE-RADIUS=500;X-TITLE=16 S. State St.:geo:-82.931227,40.1255415
END:VEVENT
BEGIN:VEVENT
DTSTART;TZID=America/New_York:20251210T183000
DTEND;TZID=America/New_York:20251210T200000
DTSTAMP:20260419T190104
CREATED:20251204T200411Z
LAST-MODIFIED:20251204T200411Z
UID:990002615-1765391400-1765396800@uptownwestervilleinc.com
SUMMARY:Holiday Wines and Wreath Workshop
DESCRIPTION:Join Westerville Florist and Meza Wine Shop for an evening of holiday cheer! Be creative and customize your live wreath at our Wreath Bar\, make a charcuterie provision box and sip on a complementary holiday wine or bubbles selections.
URL:https://uptownwestervilleinc.com/event/holiday-wines-and-wreath-workshop/
LOCATION:The Giving Room\, 16 S. State St.\, Westerville\, OH\, 43081\, United States
CATEGORIES:Holiday events
ATTACH;FMTTYPE=image/webp:https://uptownwestervilleinc.com/wp-content/uploads/2025/12/12-10-25-holiday-wines.webp
ORGANIZER;CN="Westerville Florist":MAILTO:westervilleflorist14@gmail.com
GEO:40.1255415;-82.931227
X-APPLE-STRUCTURED-LOCATION;VALUE=URI;X-ADDRESS=The Giving Room 16 S. State St. Westerville OH 43081 United States;X-APPLE-RADIUS=500;X-TITLE=16 S. State St.:geo:-82.931227,40.1255415
END:VEVENT
BEGIN:VEVENT
DTSTART;TZID=America/New_York:20251130T120000
DTEND;TZID=America/New_York:20251130T150000
DTSTAMP:20260419T190105
CREATED:20251128T203054Z
LAST-MODIFIED:20251128T203054Z
UID:990002613-1764504000-1764514800@uptownwestervilleinc.com
SUMMARY:Grinchmas: Whoville Trees and Cookies Please
DESCRIPTION:Merry Grinchmas\, Westerville! If you and your family love the Grinch as much as we do\, come on over to The Giving Room during Uptown Holidays in Uptown kickoff on November 30th from 12-3 to create your very own Whoville tree\, snap photos with Santa and the Grinch\, and decorate delicious Grinch-inspired cookies with Mrs. Claus!
URL:https://uptownwestervilleinc.com/event/grinchmas-whoville-trees-and-cookies-please/
LOCATION:The Giving Room\, 16 S. State St.\, Westerville\, OH\, 43081\, United States
CATEGORIES:Holiday events
ATTACH;FMTTYPE=image/webp:https://uptownwestervilleinc.com/wp-content/uploads/2025/11/11-30-25-merry-grinchmas.webp
ORGANIZER;CN="Westerville Florist":MAILTO:westervilleflorist14@gmail.com
GEO:40.1255415;-82.931227
X-APPLE-STRUCTURED-LOCATION;VALUE=URI;X-ADDRESS=The Giving Room 16 S. State St. Westerville OH 43081 United States;X-APPLE-RADIUS=500;X-TITLE=16 S. State St.:geo:-82.931227,40.1255415
END:VEVENT
END:VCALENDAR