BEGIN:VCALENDAR
VERSION:2.0
PRODID:-//Uptown Westerville Inc - ECPv6.15.20//NONSGML v1.0//EN
CALSCALE:GREGORIAN
METHOD:PUBLISH
X-WR-CALNAME:Uptown Westerville Inc
X-ORIGINAL-URL:https://uptownwestervilleinc.com
X-WR-CALDESC:Events for Uptown Westerville Inc
REFRESH-INTERVAL;VALUE=DURATION:PT1H
X-Robots-Tag:noindex
X-PUBLISHED-TTL:PT1H
BEGIN:VTIMEZONE
TZID:America/New_York
BEGIN:DAYLIGHT
TZOFFSETFROM:-0500
TZOFFSETTO:-0400
TZNAME:EDT
DTSTART:20230312T070000
END:DAYLIGHT
BEGIN:STANDARD
TZOFFSETFROM:-0400
TZOFFSETTO:-0500
TZNAME:EST
DTSTART:20231105T060000
END:STANDARD
BEGIN:DAYLIGHT
TZOFFSETFROM:-0500
TZOFFSETTO:-0400
TZNAME:EDT
DTSTART:20240310T070000
END:DAYLIGHT
BEGIN:STANDARD
TZOFFSETFROM:-0400
TZOFFSETTO:-0500
TZNAME:EST
DTSTART:20241103T060000
END:STANDARD
BEGIN:DAYLIGHT
TZOFFSETFROM:-0500
TZOFFSETTO:-0400
TZNAME:EDT
DTSTART:20250309T070000
END:DAYLIGHT
BEGIN:STANDARD
TZOFFSETFROM:-0400
TZOFFSETTO:-0500
TZNAME:EST
DTSTART:20251102T060000
END:STANDARD
BEGIN:DAYLIGHT
TZOFFSETFROM:-0500
TZOFFSETTO:-0400
TZNAME:EDT
DTSTART:20260308T070000
END:DAYLIGHT
BEGIN:STANDARD
TZOFFSETFROM:-0400
TZOFFSETTO:-0500
TZNAME:EST
DTSTART:20261101T060000
END:STANDARD
END:VTIMEZONE
BEGIN:VEVENT
DTSTART;TZID=America/New_York:20250822T173000
DTEND;TZID=America/New_York:20250822T193000
DTSTAMP:20260420T134352
CREATED:20250819T133412Z
LAST-MODIFIED:20250819T133412Z
UID:990001959-1755883800-1755891000@uptownwestervilleinc.com
SUMMARY:Friday Night Lights Food Drive\, as Warriors host Warcats
DESCRIPTION:WARM is hosting a food drive at the Westerville North vs. Westerville Central football game beginning at 5:30 p.m. Kickoff for the Warhawks’ visit to the Warriors is at 7 p.m. in Jim McCann Stadium. WARM will be collecting nonperishables from our Most Needed Items list. \nIf you plan on attending this North v Central game\, please consider bringing some donations to support WARM’s food pantry and the Westerville Community!
URL:https://uptownwestervilleinc.com/event/friday-night-lights-food-drive-as-warriors-host-warcats/
LOCATION:Westerville North High School\, County Line Road\, Westerville\, OH\, 43081\, United States
CATEGORIES:In the area,School Events
ATTACH;FMTTYPE=image/webp:https://uptownwestervilleinc.com/wp-content/uploads/2025/08/8-22-25-WCHS-v-WNHS-food-drive.webp
GEO:40.1329258;-82.8979062
X-APPLE-STRUCTURED-LOCATION;VALUE=URI;X-ADDRESS=Westerville North High School County Line Road Westerville OH 43081 United States;X-APPLE-RADIUS=500;X-TITLE=County Line Road:geo:-82.8979062,40.1329258
END:VEVENT
BEGIN:VEVENT
DTSTART;TZID=America/New_York:20240721T140000
DTEND;TZID=America/New_York:20240721T160000
DTSTAMP:20260420T134352
CREATED:20240529T224834Z
LAST-MODIFIED:20240529T224848Z
UID:990000805-1721570400-1721577600@uptownwestervilleinc.com
SUMMARY:SpongeBob the Musical
DESCRIPTION:SpongeBob the Musical\n\n\nWesterville City Schools’ Summer Enrichment Theatre program is bringing “SpongeBob The Musical” to the stage. After casting that was open to all Westerville middle and high school students\, the summer production will be presented July 19-21 at Westerville North High School. \nSet in the undersea world of “SpongeBob SquarePants\,” the musical follows SpongeBob and his friends Patrick\, Sandy\, Squidward and others come together to save their town from impending doom. \nMatt Wolfe\, who heads the theatre program at Westerville South High School and serves as the director of the summer enrichment theatre program\, is excited to take audiences to the pineapple under the sea. \n“After a couple years of high school stories\, we wanted to reach out to a family-friendly\, good-for-all-ages show that utilizes imagination and creativity to tell a story\,” he said. Students who participate in the summer enrichment theatre program can earn a .25 elective credit in Theatre Production. \nShowtimes:  \nJuly 19: 7 p.m. \nJuly 20: 2 p.m. and 7 p.m. \nJuly 21:  2 p.m. \nThe play is based on the Nickelodeon television series by Stephen Hillenburg and book by Kyle Jarrow and features original songs by Yolanda Adams\, Steven Tyler and Joe Perry of Aerosmith\, Sara Bareilles\, Jonathan Coulton\, Alex Ebert of Edward Sharpe & The Magnetic Zeros\, The Flaming Lips\, Lady A\, Cyndi Lauper\, John Legend\, Panic! At the Disco\, Plain White T’s\, They Might Be Giants\, and T.I.\, and songs by David Bowie\, Tom Kenny and Andy Paley. Nickelodeon is a division of Viacom International Inc\, which owns all rights to the show. \n  \n\n\n  \n\n\n\n\n			\n				\n				\n				\n				\n				\n			\n				Purchase Tickets
URL:https://uptownwestervilleinc.com/event/spongebob-the-musical/2024-07-21/
LOCATION:Westerville North High School\, County Line Road\, Westerville\, OH\, 43081\, United States
CATEGORIES:In the area,School Events
ATTACH;FMTTYPE=image/webp:https://uptownwestervilleinc.com/wp-content/uploads/2024/05/7-19-24-spongebob-poster.webp
GEO:40.1329258;-82.8979062
X-APPLE-STRUCTURED-LOCATION;VALUE=URI;X-ADDRESS=Westerville North High School County Line Road Westerville OH 43081 United States;X-APPLE-RADIUS=500;X-TITLE=County Line Road:geo:-82.8979062,40.1329258
END:VEVENT
BEGIN:VEVENT
DTSTART;TZID=America/New_York:20240720T190000
DTEND;TZID=America/New_York:20240720T210000
DTSTAMP:20260420T134352
CREATED:20240529T224834Z
LAST-MODIFIED:20240529T224848Z
UID:990000804-1721502000-1721509200@uptownwestervilleinc.com
SUMMARY:SpongeBob the Musical
DESCRIPTION:SpongeBob the Musical\n\n\nWesterville City Schools’ Summer Enrichment Theatre program is bringing “SpongeBob The Musical” to the stage. After casting that was open to all Westerville middle and high school students\, the summer production will be presented July 19-21 at Westerville North High School. \nSet in the undersea world of “SpongeBob SquarePants\,” the musical follows SpongeBob and his friends Patrick\, Sandy\, Squidward and others come together to save their town from impending doom. \nMatt Wolfe\, who heads the theatre program at Westerville South High School and serves as the director of the summer enrichment theatre program\, is excited to take audiences to the pineapple under the sea. \n“After a couple years of high school stories\, we wanted to reach out to a family-friendly\, good-for-all-ages show that utilizes imagination and creativity to tell a story\,” he said. Students who participate in the summer enrichment theatre program can earn a .25 elective credit in Theatre Production. \nShowtimes:  \nJuly 19: 7 p.m. \nJuly 20: 2 p.m. and 7 p.m. \nJuly 21:  2 p.m. \nThe play is based on the Nickelodeon television series by Stephen Hillenburg and book by Kyle Jarrow and features original songs by Yolanda Adams\, Steven Tyler and Joe Perry of Aerosmith\, Sara Bareilles\, Jonathan Coulton\, Alex Ebert of Edward Sharpe & The Magnetic Zeros\, The Flaming Lips\, Lady A\, Cyndi Lauper\, John Legend\, Panic! At the Disco\, Plain White T’s\, They Might Be Giants\, and T.I.\, and songs by David Bowie\, Tom Kenny and Andy Paley. Nickelodeon is a division of Viacom International Inc\, which owns all rights to the show. \n  \n\n\n  \n\n\n\n\n			\n				\n				\n				\n				\n				\n			\n				Purchase Tickets
URL:https://uptownwestervilleinc.com/event/spongebob-the-musical/2024-07-20/2/
LOCATION:Westerville North High School\, County Line Road\, Westerville\, OH\, 43081\, United States
CATEGORIES:In the area,School Events
ATTACH;FMTTYPE=image/webp:https://uptownwestervilleinc.com/wp-content/uploads/2024/05/7-19-24-spongebob-poster.webp
GEO:40.1329258;-82.8979062
X-APPLE-STRUCTURED-LOCATION;VALUE=URI;X-ADDRESS=Westerville North High School County Line Road Westerville OH 43081 United States;X-APPLE-RADIUS=500;X-TITLE=County Line Road:geo:-82.8979062,40.1329258
END:VEVENT
BEGIN:VEVENT
DTSTART;TZID=America/New_York:20240720T140000
DTEND;TZID=America/New_York:20240720T160000
DTSTAMP:20260420T134352
CREATED:20240529T224834Z
LAST-MODIFIED:20240529T224848Z
UID:990000803-1721484000-1721491200@uptownwestervilleinc.com
SUMMARY:SpongeBob the Musical
DESCRIPTION:SpongeBob the Musical\n\n\nWesterville City Schools’ Summer Enrichment Theatre program is bringing “SpongeBob The Musical” to the stage. After casting that was open to all Westerville middle and high school students\, the summer production will be presented July 19-21 at Westerville North High School. \nSet in the undersea world of “SpongeBob SquarePants\,” the musical follows SpongeBob and his friends Patrick\, Sandy\, Squidward and others come together to save their town from impending doom. \nMatt Wolfe\, who heads the theatre program at Westerville South High School and serves as the director of the summer enrichment theatre program\, is excited to take audiences to the pineapple under the sea. \n“After a couple years of high school stories\, we wanted to reach out to a family-friendly\, good-for-all-ages show that utilizes imagination and creativity to tell a story\,” he said. Students who participate in the summer enrichment theatre program can earn a .25 elective credit in Theatre Production. \nShowtimes:  \nJuly 19: 7 p.m. \nJuly 20: 2 p.m. and 7 p.m. \nJuly 21:  2 p.m. \nThe play is based on the Nickelodeon television series by Stephen Hillenburg and book by Kyle Jarrow and features original songs by Yolanda Adams\, Steven Tyler and Joe Perry of Aerosmith\, Sara Bareilles\, Jonathan Coulton\, Alex Ebert of Edward Sharpe & The Magnetic Zeros\, The Flaming Lips\, Lady A\, Cyndi Lauper\, John Legend\, Panic! At the Disco\, Plain White T’s\, They Might Be Giants\, and T.I.\, and songs by David Bowie\, Tom Kenny and Andy Paley. Nickelodeon is a division of Viacom International Inc\, which owns all rights to the show. \n  \n\n\n  \n\n\n\n\n			\n				\n				\n				\n				\n				\n			\n				Purchase Tickets
URL:https://uptownwestervilleinc.com/event/spongebob-the-musical/2024-07-20/1/
LOCATION:Westerville North High School\, County Line Road\, Westerville\, OH\, 43081\, United States
CATEGORIES:In the area,School Events
ATTACH;FMTTYPE=image/webp:https://uptownwestervilleinc.com/wp-content/uploads/2024/05/7-19-24-spongebob-poster.webp
GEO:40.1329258;-82.8979062
X-APPLE-STRUCTURED-LOCATION;VALUE=URI;X-ADDRESS=Westerville North High School County Line Road Westerville OH 43081 United States;X-APPLE-RADIUS=500;X-TITLE=County Line Road:geo:-82.8979062,40.1329258
END:VEVENT
BEGIN:VEVENT
DTSTART;TZID=America/New_York:20240719T190000
DTEND;TZID=America/New_York:20240719T210000
DTSTAMP:20260420T134352
CREATED:20240529T224834Z
LAST-MODIFIED:20240529T224848Z
UID:990000802-1721415600-1721422800@uptownwestervilleinc.com
SUMMARY:SpongeBob the Musical
DESCRIPTION:SpongeBob the Musical\n\n\nWesterville City Schools’ Summer Enrichment Theatre program is bringing “SpongeBob The Musical” to the stage. After casting that was open to all Westerville middle and high school students\, the summer production will be presented July 19-21 at Westerville North High School. \nSet in the undersea world of “SpongeBob SquarePants\,” the musical follows SpongeBob and his friends Patrick\, Sandy\, Squidward and others come together to save their town from impending doom. \nMatt Wolfe\, who heads the theatre program at Westerville South High School and serves as the director of the summer enrichment theatre program\, is excited to take audiences to the pineapple under the sea. \n“After a couple years of high school stories\, we wanted to reach out to a family-friendly\, good-for-all-ages show that utilizes imagination and creativity to tell a story\,” he said. Students who participate in the summer enrichment theatre program can earn a .25 elective credit in Theatre Production. \nShowtimes:  \nJuly 19: 7 p.m. \nJuly 20: 2 p.m. and 7 p.m. \nJuly 21:  2 p.m. \nThe play is based on the Nickelodeon television series by Stephen Hillenburg and book by Kyle Jarrow and features original songs by Yolanda Adams\, Steven Tyler and Joe Perry of Aerosmith\, Sara Bareilles\, Jonathan Coulton\, Alex Ebert of Edward Sharpe & The Magnetic Zeros\, The Flaming Lips\, Lady A\, Cyndi Lauper\, John Legend\, Panic! At the Disco\, Plain White T’s\, They Might Be Giants\, and T.I.\, and songs by David Bowie\, Tom Kenny and Andy Paley. Nickelodeon is a division of Viacom International Inc\, which owns all rights to the show. \n  \n\n\n  \n\n\n\n\n			\n				\n				\n				\n				\n				\n			\n				Purchase Tickets
URL:https://uptownwestervilleinc.com/event/spongebob-the-musical/2024-07-19/
LOCATION:Westerville North High School\, County Line Road\, Westerville\, OH\, 43081\, United States
CATEGORIES:In the area,School Events
ATTACH;FMTTYPE=image/webp:https://uptownwestervilleinc.com/wp-content/uploads/2024/05/7-19-24-spongebob-poster.webp
GEO:40.1329258;-82.8979062
X-APPLE-STRUCTURED-LOCATION;VALUE=URI;X-ADDRESS=Westerville North High School County Line Road Westerville OH 43081 United States;X-APPLE-RADIUS=500;X-TITLE=County Line Road:geo:-82.8979062,40.1329258
END:VEVENT
END:VCALENDAR